BEGIN:VCALENDAR
VERSION:2.0
PRODID:-//ChamberMaster//Event Calendar 2.0//EN
METHOD:PUBLISH
X-PUBLISHED-TTL:P3D
REFRESH-INTERVAL:P3D
CALSCALE:GREGORIAN
BEGIN:VEVENT
DTSTART:20220910T160000Z
DTEND:20220910T210000Z
X-MICROSOFT-CDO-ALLDAYEVENT:FALSE
SUMMARY:2022 Bands Brews & BBQ Car Show
DESCRIPTION:EVENT HIGHLIGHTS:\n\n  Backyard BBQ competition at its finest!\n\n  Classic Cars\n\n  Music\n\n  Vendors\n\n  An all around great day downtown\n\n\n\nContact mainstreet@commercega.gov if interested in cooking competition or entering a car to compete for prizes! Deadline August 30\, 2022\n\n\n\nFor more information\, please visit the website provided.
X-ALT-DESC;FMTTYPE=text/html:<br style="box-sizing: border-box\; color: rgb(51\, 51\, 51)\; font-family: roboto\, sans-serif\, Arial\, &quot\;Trebuchet MS&quot\;\; font-size: 16px\; background-color: rgb(255\, 255\, 255)\;" />\n<span style="color: rgb(51\, 51\, 51)\; font-family: roboto\, sans-serif\, Arial\, &quot\;Trebuchet MS&quot\;\; font-size: 16px\; background-color: rgb(255\, 255\, 255)\;">EVENT HIGHLIGHTS:</span><br style="box-sizing: border-box\; color: rgb(51\, 51\, 51)\; font-family: roboto\, sans-serif\, Arial\, &quot\;Trebuchet MS&quot\;\; font-size: 16px\; background-color: rgb(255\, 255\, 255)\;" />\n<span style="color: rgb(51\, 51\, 51)\; font-family: roboto\, sans-serif\, Arial\, &quot\;Trebuchet MS&quot\;\; font-size: 16px\; background-color: rgb(255\, 255\, 255)\;">&bull\; Backyard BBQ competition at its finest!</span><br style="box-sizing: border-box\; color: rgb(51\, 51\, 51)\; font-family: roboto\, sans-serif\, Arial\, &quot\;Trebuchet MS&quot\;\; font-size: 16px\; background-color: rgb(255\, 255\, 255)\;" />\n<span style="color: rgb(51\, 51\, 51)\; font-family: roboto\, sans-serif\, Arial\, &quot\;Trebuchet MS&quot\;\; font-size: 16px\; background-color: rgb(255\, 255\, 255)\;">&bull\; Classic Cars</span><br style="box-sizing: border-box\; color: rgb(51\, 51\, 51)\; font-family: roboto\, sans-serif\, Arial\, &quot\;Trebuchet MS&quot\;\; font-size: 16px\; background-color: rgb(255\, 255\, 255)\;" />\n<span style="color: rgb(51\, 51\, 51)\; font-family: roboto\, sans-serif\, Arial\, &quot\;Trebuchet MS&quot\;\; font-size: 16px\; background-color: rgb(255\, 255\, 255)\;">&bull\; Music</span><br style="box-sizing: border-box\; color: rgb(51\, 51\, 51)\; font-family: roboto\, sans-serif\, Arial\, &quot\;Trebuchet MS&quot\;\; font-size: 16px\; background-color: rgb(255\, 255\, 255)\;" />\n<span style="color: rgb(51\, 51\, 51)\; font-family: roboto\, sans-serif\, Arial\, &quot\;Trebuchet MS&quot\;\; font-size: 16px\; background-color: rgb(255\, 255\, 255)\;">&bull\; Vendors</span><br style="box-sizing: border-box\; color: rgb(51\, 51\, 51)\; font-family: roboto\, sans-serif\, Arial\, &quot\;Trebuchet MS&quot\;\; font-size: 16px\; background-color: rgb(255\, 255\, 255)\;" />\n<span style="color: rgb(51\, 51\, 51)\; font-family: roboto\, sans-serif\, Arial\, &quot\;Trebuchet MS&quot\;\; font-size: 16px\; background-color: rgb(255\, 255\, 255)\;">&bull\; An all around great day downtown</span><br style="box-sizing: border-box\; color: rgb(51\, 51\, 51)\; font-family: roboto\, sans-serif\, Arial\, &quot\;Trebuchet MS&quot\;\; font-size: 16px\; background-color: rgb(255\, 255\, 255)\;" />\n<br style="box-sizing: border-box\; color: rgb(51\, 51\, 51)\; font-family: roboto\, sans-serif\, Arial\, &quot\;Trebuchet MS&quot\;\; font-size: 16px\; background-color: rgb(255\, 255\, 255)\;" />\n<span style="color: rgb(51\, 51\, 51)\; font-family: roboto\, sans-serif\, Arial\, &quot\;Trebuchet MS&quot\;\; font-size: 16px\; background-color: rgb(255\, 255\, 255)\;">Contact mainstreet@commercega.gov if interested in cooking competition or entering a car to compete for prizes! Deadline August 30\, 2022</span><br style="box-sizing: border-box\; color: rgb(51\, 51\, 51)\; font-family: roboto\, sans-serif\, Arial\, &quot\;Trebuchet MS&quot\;\; font-size: 16px\; background-color: rgb(255\, 255\, 255)\;" />\n<br style="box-sizing: border-box\; color: rgb(51\, 51\, 51)\; font-family: roboto\, sans-serif\, Arial\, &quot\;Trebuchet MS&quot\;\; font-size: 16px\; background-color: rgb(255\, 255\, 255)\;" />\n<span style="color: rgb(51\, 51\, 51)\; font-family: roboto\, sans-serif\, Arial\, &quot\;Trebuchet MS&quot\;\; font-size: 16px\; background-color: rgb(255\, 255\, 255)\;">For more information\, please visit the website provided.</span>
LOCATION:Commerce\, Main Street
UID:e.1877.4985
SEQUENCE:3
DTSTAMP:20260420T063358Z
URL:https://www.bankscountyga.biz/events/details/2022-bands-brews-bbq-car-show-4985
END:VEVENT

END:VCALENDAR
