BEGIN:VCALENDAR
VERSION:2.0
PRODID:-//ChamberMaster//Event Calendar 2.0//EN
METHOD:PUBLISH
X-PUBLISHED-TTL:P3D
REFRESH-INTERVAL:P3D
CALSCALE:GREGORIAN
BEGIN:VEVENT
DTSTART:20221002T020000Z
DTEND:20221002T220000Z
X-MICROSOFT-CDO-ALLDAYEVENT:FALSE
SUMMARY:2022 Lula Fall Festival
DESCRIPTION:Lula Fall Festival is brought to you by\n\n\n\n\n\n\n\n\n\n\n\nHistorical Society of Lula Bellton GA\n\nExplore Lula\, GA\n\nA Fun Weekend for the Whole Family!\n\nLocal Artisans & Crafters\n\nDelicious Food\n\nLive Music & Entertainment\n\n\nWe are welcoming back the Southern Stone Band\n\nfor a Free Concert on Saturday from 6:00 to 9:00\n\n\nChurch Service on Sunday by Eric Stewart with Liberty Baptist Church starting at 10:15\n\nLater the Southern Stone Band will be playing again.\n\n \n\nMore Details:\n\n\n\n\nFestival Location: Lula Train Depot\n\nDate: Saturday\, October 1st and Sunday\, October 2nd\, 2022
X-ALT-DESC;FMTTYPE=text/html:<div class="vc_row wpb_row vc_row-fluid" style="font-family: Lato\, serif\; font-size: 17px\; background-color: rgb(255\, 255\, 255)\;">\n<div class="wpb_column vc_column_container vc_col-sm-12">\n<div class="vc_column-inner ">\n<div class="wpb_wrapper">\n<h2 class="vc_custom_heading" style="margin-bottom: 10px\; line-height: 1.4\; margin-top: 0px\; font-size: 26px\; text-align: center\;">Lula Fall Festival is brought to you by</h2>\n</div>\n</div>\n</div>\n</div>\n\n<div class="vc_row wpb_row vc_row-fluid" style="font-family: Lato\, serif\; font-size: 17px\; background-color: rgb(255\, 255\, 255)\;">\n<div class="wpb_column vc_column_container vc_col-sm-12">\n<div class="vc_column-inner ">\n<div class="wpb_wrapper">\n<div class="wpb_text_column wpb_content_element ">\n<div class="wpb_wrapper">\n<p style="margin-bottom: 20px\; margin-top: 0px\; text-align: center\;">Historical Society of Lula Bellton GA</p>\n\n<p style="margin-bottom: 20px\; margin-top: 0px\; text-align: center\;">Explore Lula\, GA</p>\n\n<p style="margin-bottom: 20px\; margin-top: 0px\; text-align: center\;">A Fun Weekend for the Whole Family!</p>\n\n<p style="margin-bottom: 20px\; margin-top: 0px\; text-align: center\;">Local Artisans &amp\; Crafters</p>\n\n<p style="margin-bottom: 20px\; margin-top: 0px\; text-align: center\;">Delicious Food</p>\n\n<p style="margin-bottom: 20px\; margin-top: 0px\; text-align: center\;">Live Music &amp\; Entertainment</p>\n</div>\n\n<p style="margin-bottom: 20px\; margin-top: 0px\; text-align: center\;">We are welcoming back the Southern Stone Band</p>\n\n<p style="margin-bottom: 20px\; margin-top: 0px\; text-align: center\;">for a Free Concert on Saturday from 6:00 to 9:00</p>\n\n<div class="wpb_wrapper">\n<p style="margin-bottom: 20px\; margin-top: 0px\; text-align: center\;">Church Service on Sunday by Eric Stewart with Liberty Baptist Church starting at 10:15</p>\n\n<p style="margin-bottom: 20px\; margin-top: 0px\; text-align: center\;">Later the Southern Stone Band will be playing again.</p>\n\n<h2 style="margin-bottom: 10px\; line-height: 1.4\; margin-top: 0px\; font-size: 26px\;">&nbsp\;</h2>\n\n<h2 class="vc_custom_heading" style="margin-bottom: 10px\; line-height: 1.4\; margin-top: 0px\; font-size: 26px\; text-align: center\;">More Details:</h2>\n\n<div class="wpb_text_column wpb_content_element ">\n<div class="wpb_wrapper">\n<div class="entry-content">\n<p style="margin-bottom: 20px\; margin-top: 0px\; text-align: center\;">Festival Location: Lula Train Depot<br />\nDate: Saturday\, October 1st and Sunday\, October 2nd\, 2022</p>\n</div>\n</div>\n</div>\n</div>\n</div>\n</div>\n</div>\n</div>\n</div>\n
LOCATION:Lula Train Depot 5911 Wall St. Lula\, GA 30554
UID:e.1877.4989
SEQUENCE:3
DTSTAMP:20260420T063228Z
URL:https://www.bankscountyga.biz/events/details/2022-lula-fall-festival-4989
END:VEVENT

END:VCALENDAR
