BEGIN:VCALENDAR
VERSION:2.0
PRODID:-//ChamberMaster//Event Calendar 2.0//EN
METHOD:PUBLISH
X-PUBLISHED-TTL:P3D
REFRESH-INTERVAL:P3D
CALSCALE:GREGORIAN
BEGIN:VEVENT
DTSTART:20221029T140000Z
DTEND:20221030T210000Z
X-MICROSOFT-CDO-ALLDAYEVENT:FALSE
SUMMARY:2022 Toccoa Harvest Festival
DESCRIPTION:The 2022 Toccoa Harvest Festival is located in Historic Downtown Toccoa October 29 - 30. This event is family friendly with lots to enjoy! Toccoa Harvest Festival has many vendors come every year. Some of the things you will see are: food\, beer & wine\, music\, crafts and hobbies\, car show\, and much much more!
X-ALT-DESC;FMTTYPE=text/html:<span style="color: rgb(33\, 39\, 33)\; font-family: freight-text-pro\, Georgia\, Times\, &quot\;Times New Roman&quot\;\, serif\; font-size: 32px\;">The 2022 Toccoa Harvest Festival is located in Historic Downtown Toccoa October 29 - 30. This event is family friendly with lots to enjoy! Toccoa Harvest Festival has many vendors come every year. Some of the things you will see are: food\, beer &amp\; wine\, music\, crafts and hobbies\, car show\, and much much more!&nbsp\;</span>
LOCATION:Historic Downtown Toccoa 92 North Alexander street Toccoa\, GA 30577
UID:e.1877.4976
SEQUENCE:3
DTSTAMP:20260420T044609Z
URL:https://www.bankscountyga.biz/events/details/2022-toccoa-harvest-festival-4976
END:VEVENT

END:VCALENDAR
