BEGIN:VCALENDAR
VERSION:2.0
PRODID:-//ChamberMaster//Event Calendar 2.0//EN
METHOD:PUBLISH
X-PUBLISHED-TTL:P3D
REFRESH-INTERVAL:P3D
CALSCALE:GREGORIAN
BEGIN:VEVENT
DTSTART:20230204T230000Z
DTEND:20230205T030000Z
X-MICROSOFT-CDO-ALLDAYEVENT:FALSE
SUMMARY:2023 Banks County Chamber CVB Annual Dinner
DESCRIPTION:Please Join us this year at our 2023 Banks County Chamber Annual Dinner\, as we have Dinner\, Music by Country Music Artist Clay Page\, Silent Auction and Awards.  The Dinner will be held at  Hidden Acres Wedding and Event Barn in Gillsville\, GA.   Banks County Citizen and Business of the Year will be Recognized and Awarded.  Please join us as we celebrate in a relaxed atmosphere in Business/Casual Dress.   Register at BanksCountyGa.biz/events\,  or call the office at 706-335-4866.\n\nYou can register at https://www.bankscountyga.biz/events/details/2023-banks-county-chamber-cvb-annual-dinner-4997\, or contact the office 706-335-4866
X-ALT-DESC;FMTTYPE=text/html:<br style="color: rgb(51\, 51\, 51)\; font-family: sans-serif\, Arial\, Verdana\, &quot\;Trebuchet MS&quot\;\; font-size: 13px\;" />\n<span style="color: rgb(51\, 51\, 51)\; font-family: sans-serif\, Arial\, Verdana\, &quot\;Trebuchet MS&quot\;\; font-size: 13px\; background-color: rgb(255\, 255\, 255)\;">Please Join us this year at our 2023 Banks County Chamber Annual Dinner\, as we have Dinner\, Music by Country Music Artist Clay Page\, Silent Auction and Awards.&nbsp\; The Dinner will be held at&nbsp\; Hidden Acres Wedding and Event Barn in Gillsville\, GA.&nbsp\; &nbsp\;Banks County Citizen and Business of the Year will be Recognized and Awarded.&nbsp\; Please join us as we celebrate in a relaxed atmosphere in Business/Casual Dress.&nbsp\; &nbsp\;Register at BanksCountyGa.biz/events\,&nbsp\; or call the office at 706-335-4866.</span><br style="color: rgb(51\, 51\, 51)\; font-family: sans-serif\, Arial\, Verdana\, &quot\;Trebuchet MS&quot\;\; font-size: 13px\;" />\n<span style="color: rgb(51\, 51\, 51)\; font-family: sans-serif\, Arial\, Verdana\, &quot\;Trebuchet MS&quot\;\; font-size: 20px\;">You can register at&nbsp\;</span>https://www.bankscountyga.biz/events/details/2023-banks-county-chamber-cvb-annual-dinner-4997\, or<span style="color: rgb(51\, 51\, 51)\; font-family: sans-serif\, Arial\, Verdana\, &quot\;Trebuchet MS&quot\;\; font-size: 18px\;">&nbsp\;contact the office 706-335-4866</span>
LOCATION:Hidden Acres Wedding And Event Barn 6467 Old Gillsville Rd Gillsville\, GA 30543
UID:e.1877.4997
SEQUENCE:3
DTSTAMP:20260419T221322Z
URL:https://www.bankscountyga.biz/events/details/2023-banks-county-chamber-cvb-annual-dinner-4997
END:VEVENT

END:VCALENDAR
