BEGIN:VCALENDAR
VERSION:2.0
PRODID:-//ChamberMaster//Event Calendar 2.0//EN
METHOD:PUBLISH
X-PUBLISHED-TTL:P3D
REFRESH-INTERVAL:P3D
CALSCALE:GREGORIAN
BEGIN:VEVENT
DTSTART:20230819T133000Z
DTEND:20230820T210000Z
X-MICROSOFT-CDO-ALLDAYEVENT:FALSE
SUMMARY:2023 Double Oaks Golf Club MEN'S Championship
DESCRIPTION:2023 Double Oaks Men's Club Championship is fast approaching!   Open to ALL Double Oaks Golf Club Members!!!Two-Day\, 36 Hole Stroke Play Championship-Flighted.Entry Deadline:  Entries close on Wednesday\, August 16th.  Please turn entry form into the golf shop.\n\n*All skill levels are encouraged to play.
X-ALT-DESC;FMTTYPE=text/html:<span style="font-size:26px\;">2023 Double Oaks Men's Club Championship is fast approaching!&nbsp\;&nbsp\;</span><span style="font-size:20px\;"><span style="color:#0000FF\;">&nbsp\;Open to ALL Double Oaks Golf Club Members!!!Two-Day\, 36 Hole Stroke Play Championship-Flighted.Entry Deadline:&nbsp\; Entries close on Wednesday\, August 16th.&nbsp\; Please turn entry form into the golf shop.<br>\n*All skill levels are encouraged to play.&nbsp\;</span></span>
LOCATION:3100 Ila Road Commerce\, GA
UID:e.1877.5059
SEQUENCE:3
DTSTAMP:20260419T133216Z
URL:https://www.bankscountyga.biz/events/details/2023-double-oaks-golf-club-men-s-championship-5059
END:VEVENT

END:VCALENDAR
