BEGIN:VCALENDAR
VERSION:2.0
PRODID:-//ChamberMaster//Event Calendar 2.0//EN
METHOD:PUBLISH
X-PUBLISHED-TTL:P3D
REFRESH-INTERVAL:P3D
CALSCALE:GREGORIAN
BEGIN:VEVENT
DTSTART:20230317T160000Z
DTEND:20230319T180000Z
X-MICROSOFT-CDO-ALLDAYEVENT:FALSE
SUMMARY:2023 R100 Homer\, GA
DESCRIPTION:Come join us in Homer\, GA for another fantastic R100 hosted by Banks County Archery Team!  R100 is a traveling archery shoot consisting of 100 unique targets plus specialty shoots.
X-ALT-DESC;FMTTYPE=text/html:Come join us in Homer\, GA for another fantastic R100 hosted by Banks County Archery Team!&nbsp\; R100 is a traveling archery shoot consisting of 100 unique targets plus specialty shoots.&nbsp\;&nbsp\;
LOCATION:Banks County Horse Arena More information to come.
UID:e.1877.5022
SEQUENCE:3
DTSTAMP:20260419T201217Z
URL:https://www.bankscountyga.biz/events/details/2023-r100-homer-ga-5022
END:VEVENT

END:VCALENDAR
