BEGIN:VCALENDAR
VERSION:2.0
PRODID:-//ChamberMaster//Event Calendar 2.0//EN
METHOD:PUBLISH
X-PUBLISHED-TTL:P3D
REFRESH-INTERVAL:P3D
CALSCALE:GREGORIAN
BEGIN:VEVENT
DTSTART:20230324T220000Z
DTEND:20230325T010000Z
X-MICROSOFT-CDO-ALLDAYEVENT:FALSE
SUMMARY:25 Annual Night of Hope for Children
DESCRIPTION:Tickets to this year's 25th Annual Night of a Hope for Children are on sale now! Don't miss this amazing event benefiting children in Northeast Georgia. Click on our website to learn more and purchase your tickets today!
X-ALT-DESC;FMTTYPE=text/html:&nbsp\;&nbsp\;<span style="color: rgb(5\, 5\, 5)\; font-family: &quot\;Segoe UI Historic&quot\;\, &quot\;Segoe UI&quot\;\, Helvetica\, Arial\, sans-serif\; font-size: 30px\; white-space: pre-wrap\; background-color: rgb(255\, 255\, 255)\;">Tickets to this year&rsquo\;s 25th Annual Night of a Hope for Children are on sale now! Don&rsquo\;t miss this amazing event benefiting children in Northeast Georgia. Click on our website to learn more and purchase your tickets today! </span>
LOCATION:Braselton Civic Center Event Venue 27 E. Lake Drive Braselton\, GA 30517
UID:e.1877.5021
SEQUENCE:3
DTSTAMP:20260419T215514Z
URL:https://www.bankscountyga.biz/events/details/25-annual-night-of-hope-for-children-5021
END:VEVENT

END:VCALENDAR
