BEGIN:VCALENDAR
VERSION:2.0
PRODID:-//ChamberMaster//Event Calendar 2.0//EN
METHOD:PUBLISH
X-PUBLISHED-TTL:P3D
REFRESH-INTERVAL:P3D
CALSCALE:GREGORIAN
BEGIN:VEVENT
DTSTART:20230705T130000Z
DTEND:20230707T200000Z
X-MICROSOFT-CDO-ALLDAYEVENT:FALSE
SUMMARY:3 Day Horsemanship Camp
DESCRIPTION:Grove River Ranch \n\nHost This 3-day camp session is set for beginner riders\, 8-10 year olds\, the fee is $225 per rider. More than just riding instruction\, campers will learn about horse psychology\, safety precautions\, horse health\, daily horse care\, grooming and tacking\, and many other horsey skills! Riders are welcome to bring their own horses\, boarding available. To check availability and request registration form\, email CJ@GroveRiverRanch.com
X-ALT-DESC;FMTTYPE=text/html:<span style="color: rgb(5\, 5\, 5)\; font-family: &quot\;Segoe UI Historic&quot\;\, &quot\;Segoe UI&quot\;\, Helvetica\, Arial\, sans-serif\; font-size: 30px\; background-color: rgb(255\, 255\, 255)\;">Grove River Ranch&nbsp\;<br />\nHost This 3-day camp session is set for beginner riders\, 8-10 year olds\, the fee is $225 per rider. More than just riding instruction\, campers will learn about horse psychology\, safety precautions\, horse health\, daily horse care\, grooming and tacking\, and many other horsey skills! Riders are welcome to bring their own horses\, boarding available. To check availability and request registration form\, email CJ@GroveRiverRanch.com</span>
LOCATION:Grove River Ranch Equestrian Center 345 Hickory Flat Dr\, Gillsville\, GA
UID:e.1877.5019
SEQUENCE:3
DTSTAMP:20260419T134643Z
URL:https://www.bankscountyga.biz/events/details/3-day-horsemanship-camp-5019
END:VEVENT

END:VCALENDAR
