BEGIN:VCALENDAR
VERSION:2.0
PRODID:-//ChamberMaster//Event Calendar 2.0//EN
METHOD:PUBLISH
X-PUBLISHED-TTL:P3D
REFRESH-INTERVAL:P3D
CALSCALE:GREGORIAN
BEGIN:VEVENT
DTSTART:20220924T140000Z
DTEND:20220924T200000Z
X-MICROSOFT-CDO-ALLDAYEVENT:FALSE
SUMMARY:34th Annual Big Red Apple Festival
DESCRIPTION:CORNELIA'S 34TH ANNUAL BIG RED APPLE FESTIVAL! SEPTEMBER 24TH FROM 10 A.M - 4 P.M. THE FESTIVAL WILL FEATURE LIVE ENTERTAINMENT\, HAYRIDES\, TRAIN RIDES\, OVER 70+ HAND-SELECTED ARTISAN VENDORS\, OVER 15 FOOD VENDORS\, KID ZONE\, CORNHOLE\, AXE THROWING\, AND MUCH MORE... FREE TO ATTEND. PRICES VARY. COME ENJOY A DAY IN CORNELIA!
X-ALT-DESC;FMTTYPE=text/html:<span style="color: rgb(33\, 39\, 33)\; font-family: freight-text-pro\, Georgia\, Times\, &quot\;Times New Roman&quot\;\, serif\; font-size: 32px\;">CORNELIA&#39\;S 34TH ANNUAL BIG RED APPLE FESTIVAL! SEPTEMBER 24TH FROM 10 A.M - 4 P.M. THE FESTIVAL WILL FEATURE LIVE ENTERTAINMENT\, HAYRIDES\, TRAIN RIDES\, OVER 70+ HAND-SELECTED ARTISAN VENDORS\, OVER 15 FOOD VENDORS\, KID ZONE\, CORNHOLE\, AXE THROWING\, AND MUCH MORE... FREE TO ATTEND. PRICES VARY. COME ENJOY A DAY IN CORNELIA!</span>
LOCATION:181 Larkin Street Cornelia\, GA 30531
UID:e.1877.4975
SEQUENCE:3
DTSTAMP:20260420T063522Z
URL:https://www.bankscountyga.biz/events/details/34th-annual-big-red-apple-festival-4975
END:VEVENT

END:VCALENDAR
