BEGIN:VCALENDAR
VERSION:2.0
PRODID:-//ChamberMaster//Event Calendar 2.0//EN
METHOD:PUBLISH
X-PUBLISHED-TTL:P3D
REFRESH-INTERVAL:P3D
CALSCALE:GREGORIAN
BEGIN:VEVENT
DTSTART:20230505T130000Z
DTEND:20230506T210000Z
X-MICROSOFT-CDO-ALLDAYEVENT:FALSE
SUMMARY:47th ANNUAL LULA RAILROAD DAYS FESTIVAL
DESCRIPTION:City of Lula \n\nFun day with family & friends.  Parade\, Festival and Entertainment May 5th and 6th.  Sign up TODAY! for parade and Boots Registration.
X-ALT-DESC;FMTTYPE=text/html:City of Lula&nbsp\;<br />\nFun day with family &amp\; friends.&nbsp\; Parade\, Festival and Entertainment May 5th and 6th.&nbsp\; Sign up TODAY! for parade and Boots Registration.
LOCATION:Downtown Lula\, GA\, Located at the Lula Depot.
UID:e.1877.5027
SEQUENCE:3
DTSTAMP:20260419T183147Z
URL:https://www.bankscountyga.biz/events/details/47th-annual-lula-railroad-days-festival-5027
END:VEVENT

END:VCALENDAR
