BEGIN:VCALENDAR
VERSION:2.0
PRODID:-//ChamberMaster//Event Calendar 2.0//EN
METHOD:PUBLISH
X-PUBLISHED-TTL:P3D
REFRESH-INTERVAL:P3D
CALSCALE:GREGORIAN
BEGIN:VEVENT
DTSTART:20230325T123000Z
DTEND:20230325T160000Z
X-MICROSOFT-CDO-ALLDAYEVENT:FALSE
SUMMARY:9th Annual 5K and 1-Mile Fun Run
DESCRIPTION:Come support technical education and test your physicality at the Lanier Technical College 5K Race presented by King's Hawaiian on March 25\, 2023! Registration opens at 8:30 a.m. with the one-mile "Fun Run" starting at 9:30 a.m. followed by the 5k Race starting at 10:00 a.m.\n\n\n\nRegister today:\n\nhttps://www.laniertechfoundation.org/events/5k
X-ALT-DESC;FMTTYPE=text/html:<div class="x11i5rnm xat24cr x1mh8g0r x1vvkbs xdj266r x126k92a" style="margin: 0px\; white-space: pre-wrap\; overflow-wrap: break-word\; font-family: &quot\;Segoe UI Historic&quot\;\, &quot\;Segoe UI&quot\;\, Helvetica\, Arial\, sans-serif\; color: rgb(5\, 5\, 5)\; font-size: 30px\; background-color: rgb(255\, 255\, 255)\;">\n<div dir="auto" style="font-family: inherit\;">Come support technical education and test your physicality at the Lanier Technical College 5K Race presented by <span style="font-family: inherit\;"><a class="x1i10hfl xjbqb8w x6umtig x1b1mbwd xaqea5y xav7gou x9f619 x1ypdohk xt0psk2 xe8uvvx xdj266r x11i5rnm xat24cr x1mh8g0r xexx8yu x4uap5 x18d9i69 xkhd6sd x16tdsg8 x1hl2dhg xggy1nq x1a2a7pz xt0b8zv x1qq9wsj xo1l8bm" href="https://www.facebook.com/KingsHawaiian/?__cft__[0]=AZWL1x04c_w0Izu6NlpEG-mxSMXTlulg6CjF1dGYDciNkBiPFU9nCVautb-DwcKY4p43kaW_hEkt3aR3eOEDV1wgsmkhLIHoNs8DtBnZp8QB7nissFoXhJzkUsw232orYruHcgBsybc22848EOaA5eRH_RMicWmw0k8cFVDuo-bbOLYtTtZLsSmFR6MFKGLEWzk&amp\;__tn__=kK-R" role="link" style="cursor: pointer\; text-decoration-line: none\; margin: 0px\; text-align: inherit\; padding: 0px\; outline: none\; border-width: 0px\; border-style: initial\; border-color: initial\; -webkit-tap-highlight-color: transparent\; box-sizing: border-box\; list-style: none\; touch-action: manipulation\; background-color: transparent\; display: inline\; font-family: inherit\;" tabindex="0"><span class="xt0psk2" style="display: inline\; font-family: inherit\;">King&#39\;s Hawaiian</span></a></span> on March 25\, 2023! Registration opens at 8:30 a.m. with the one-mile &quot\;Fun Run&quot\; starting at 9:30 a.m. followed by the 5k Race starting at 10:00 a.m.</div>\n</div>\n\n<div class="x11i5rnm xat24cr x1mh8g0r x1vvkbs xtlvy1s x126k92a" style="margin: 0.5em 0px 0px\; white-space: pre-wrap\; overflow-wrap: break-word\; font-family: &quot\;Segoe UI Historic&quot\;\, &quot\;Segoe UI&quot\;\, Helvetica\, Arial\, sans-serif\; color: rgb(5\, 5\, 5)\; font-size: 30px\; background-color: rgb(255\, 255\, 255)\;">\n<div dir="auto" style="font-family: inherit\;">Register today:</div>\n\n<div dir="auto" style="font-family: inherit\;"><span style="font-family: inherit\;"><a class="x1i10hfl xjbqb8w x6umtig x1b1mbwd xaqea5y xav7gou x9f619 x1ypdohk xt0psk2 xe8uvvx xdj266r x11i5rnm xat24cr x1mh8g0r xexx8yu x4uap5 x18d9i69 xkhd6sd x16tdsg8 x1hl2dhg xggy1nq x1a2a7pz xt0b8zv x1fey0fg" href="https://www.laniertechfoundation.org/events/5k?fbclid=IwAR2dZrk4Yc6TRTG3wQIoYeteKdeFhJ4ZsuVXBsLyrumD6Ju48G2j9xUnOxI" rel="nofollow noopener" role="link" style="cursor: pointer\; text-decoration-line: none\; margin: 0px\; text-align: inherit\; padding: 0px\; outline: none\; border-width: 0px\; border-style: initial\; border-color: initial\; -webkit-tap-highlight-color: transparent\; box-sizing: border-box\; list-style: none\; touch-action: manipulation\; background-color: transparent\; display: inline\; font-family: inherit\;" tabindex="0" target="_blank">https://www.laniertechfoundation.org/events/5k</a></span></div>\n</div>\n
LOCATION:
UID:e.1877.5018
SEQUENCE:3
DTSTAMP:20260419T215013Z
URL:https://www.bankscountyga.biz/events/details/9th-annual-5k-and-1-mile-fun-run-5018
END:VEVENT

END:VCALENDAR
