BEGIN:VCALENDAR
VERSION:2.0
PRODID:-//ChamberMaster//Event Calendar 2.0//EN
METHOD:PUBLISH
X-PUBLISHED-TTL:P3D
REFRESH-INTERVAL:P3D
CALSCALE:GREGORIAN
BEGIN:VEVENT
DTSTART:20230603T140000Z
DTEND:20230603T180000Z
X-MICROSOFT-CDO-ALLDAYEVENT:FALSE
SUMMARY:Alto's 17th Annual SPRING FLING Parade and Festival
DESCRIPTION:Come and celebrate with us on June 3\, 2023\, in Alto\, GA. for their 17th Annual Spring Fling Parade and Festival.  Parade starts at 10 am - 2 pm.  Live Entertainment with Steve Bryson\, Antique Tractor and Float Contests\, great food and Crafts.  Don't forget about the Car Show! Bring the kids and family for a great time.  Anyone interested in signing up as a vendor or parade participant please contact Alto City Hall at 706-778-8035. Located at 162 South Grant Street\, Alto\, GA. 30510.
X-ALT-DESC;FMTTYPE=text/html:Come and celebrate with us on June 3\, 2023\, in Alto\, GA. for their 17th Annual Spring Fling Parade and Festival.&nbsp\; Parade starts at 10 am - 2 pm.&nbsp\; Live Entertainment with Steve Bryson\, Antique Tractor and Float Contests\, great food and Crafts.&nbsp\; Don&#39\;t forget about the Car Show! Bring the kids and family for a great time.&nbsp\; Anyone interested in signing up as a vendor or parade participant please contact Alto City Hall at 706-778-8035. Located at 162 South Grant Street\, Alto\, GA. 30510.
LOCATION:Downtown Alto\, GA 162 South Grant Street Alto\, GA 30510
UID:e.1877.5029
SEQUENCE:3
DTSTAMP:20260419T151232Z
URL:https://www.bankscountyga.biz/events/details/alto-s-17th-annual-spring-fling-parade-and-festival-5029
END:VEVENT

END:VCALENDAR
