BEGIN:VCALENDAR
VERSION:2.0
PRODID:-//ChamberMaster//Event Calendar 2.0//EN
METHOD:PUBLISH
X-PUBLISHED-TTL:P3D
REFRESH-INTERVAL:P3D
CALSCALE:GREGORIAN
BEGIN:VEVENT
DTSTART:20270917T220000Z
DTEND:20270918T000000Z
X-MICROSOFT-CDO-ALLDAYEVENT:FALSE
SUMMARY:Annual Chamber CVB Picnic
DESCRIPTION:Annual Banks County Chamber CVB Picnic
X-ALT-DESC;FMTTYPE=text/html:Annual Banks County Chamber CVB Picnic
LOCATION:Chimney Oaks Golf Course 148 Hammers Glen Dr. Homer\, GA 30547
UID:e.1877.1521
SEQUENCE:3
DTSTAMP:20260424T055116Z
URL:https://www.bankscountyga.biz/events/details/annual-chamber-cvb-picnic-09-17-2027-1521
END:VEVENT

END:VCALENDAR
