BEGIN:VCALENDAR
VERSION:2.0
PRODID:-//ChamberMaster//Event Calendar 2.0//EN
METHOD:PUBLISH
X-PUBLISHED-TTL:P3D
REFRESH-INTERVAL:P3D
CALSCALE:GREGORIAN
BEGIN:VEVENT
DTSTART:20230408T143000Z
DTEND:20230408T160000Z
X-MICROSOFT-CDO-ALLDAYEVENT:FALSE
SUMMARY:Annual Easter Parade & Egg Hunt
DESCRIPTION:Event by the Commerce Main Street.  Annual Easter Parade & Egg Hunt.  Gear up kids with your best decorated brikes\, trikes\, wagons and battery operated vehicles! it's time for the Easter Parade. We will start at 10:30 from Ga Ave down Elm Street to the First Baptist Church lawn to hunt eggs!! To register for the parade please email mainstreet@commercega.gov
X-ALT-DESC;FMTTYPE=text/html:<span style="color: rgb(5\, 5\, 5)\; font-family: &quot\;Segoe UI Historic&quot\;\, &quot\;Segoe UI&quot\;\, Helvetica\, Arial\, sans-serif\; font-size: 30px\; background-color: rgb(255\, 255\, 255)\;">Event by the Commerce Main Street.&nbsp\; Annual Easter Parade &amp\; Egg Hunt.&nbsp\; Gear up kids with your best decorated brikes\, trikes\, wagons and battery operated vehicles! it&#39\;s time for the Easter Parade. We will start at 10:30 from Ga Ave down Elm Street to the First Baptist Church lawn to hunt eggs!! To register for the parade please email mainstreet@commercega.gov</span>
LOCATION:Ga Ave & Baptist Church of Commerce
UID:e.1877.5016
SEQUENCE:3
DTSTAMP:20260419T182739Z
URL:https://www.bankscountyga.biz/events/details/annual-easter-parade-egg-hunt-5016
END:VEVENT

END:VCALENDAR
