BEGIN:VCALENDAR
VERSION:2.0
PRODID:-//ChamberMaster//Event Calendar 2.0//EN
METHOD:PUBLISH
X-PUBLISHED-TTL:P3D
REFRESH-INTERVAL:P3D
CALSCALE:GREGORIAN
BEGIN:VEVENT
DTSTART:20230623T160000Z
DTEND:20230625T220000Z
X-MICROSOFT-CDO-ALLDAYEVENT:FALSE
SUMMARY:Art-tiques Summer Market
DESCRIPTION:Braselton Antique Artisan Festival & Summer Market is coming June 23-25. We will have over 200 Vendors / Food Trucks / Live Music/ Drink Tents / Free Admission / Free Parking.  115 Harris Street\, Downtown Braselton.
X-ALT-DESC;FMTTYPE=text/html:Braselton Antique Artisan Festival &amp\; Summer Market is coming June 23-25. We will have over 200 Vendors / Food Trucks / Live Music/ Drink Tents / Free Admission / Free Parking.&nbsp\; 115 Harris Street\, Downtown Braselton.
LOCATION:115 Harrison Street Downtown Braselton\, GA
UID:e.1877.5051
SEQUENCE:3
DTSTAMP:20260419T150923Z
URL:https://www.bankscountyga.biz/events/details/art-tiques-summer-market-5051
END:VEVENT

END:VCALENDAR
