BEGIN:VCALENDAR
VERSION:2.0
PRODID:-//ChamberMaster//Event Calendar 2.0//EN
METHOD:PUBLISH
X-PUBLISHED-TTL:P3D
REFRESH-INTERVAL:P3D
CALSCALE:GREGORIAN
BEGIN:VEVENT
DTSTART:20190927T220000Z
DTEND:20190928T020000Z
X-MICROSOFT-CDO-ALLDAYEVENT:FALSE
SUMMARY:Atlanta Dragway Fast Friday
DESCRIPTION:Fast Friday
X-ALT-DESC;FMTTYPE=text/html:Fast Friday
LOCATION:Atlanta Dragway 500 E. Ridgeway Rd. Commerce\, GA 30529
UID:e.1877.4208
SEQUENCE:3
DTSTAMP:20260425T103256Z
URL:https://www.bankscountyga.biz/events/details/atlanta-dragway-fast-friday-4208
END:VEVENT

END:VCALENDAR
