BEGIN:VCALENDAR
VERSION:2.0
PRODID:-//ChamberMaster//Event Calendar 2.0//EN
METHOD:PUBLISH
X-PUBLISHED-TTL:P3D
REFRESH-INTERVAL:P3D
CALSCALE:GREGORIAN
BEGIN:VEVENT
DTSTART:20230512T153000Z
DTEND:20230512T160000Z
X-MICROSOFT-CDO-ALLDAYEVENT:FALSE
SUMMARY:Austin's Home Supply & More Ribbon Cutting Ceremony
DESCRIPTION:RIBBON CUTTING CEREMONY Please join us as we welcome Jill and Dallas with Austin's Home Supply & More on Friday\, May 12\, 2023 @ 11:30 AM. Refreshments following.
X-ALT-DESC;FMTTYPE=text/html:&nbsp\;RIBBON CUTTING CEREMONY Please join us as we welcome Jill and Dallas with Austin&#39\;s Home Supply &amp\; More on Friday\, May 12\, 2023 @ 11:30 AM. Refreshments following.&nbsp\;
LOCATION:20519 US - 441 N Commerce\, GA 30529
UID:e.1877.5042
SEQUENCE:3
DTSTAMP:20260419T164937Z
URL:https://www.bankscountyga.biz/events/details/austin-s-home-supply-more-ribbon-cutting-ceremony-5042
END:VEVENT

END:VCALENDAR
