BEGIN:VCALENDAR
VERSION:2.0
PRODID:-//ChamberMaster//Event Calendar 2.0//EN
METHOD:PUBLISH
X-PUBLISHED-TTL:P3D
REFRESH-INTERVAL:P3D
CALSCALE:GREGORIAN
BEGIN:VEVENT
DTSTART:20221202T230000Z
DTEND:20221214T013000Z
X-MICROSOFT-CDO-ALLDAYEVENT:FALSE
SUMMARY:Banks County Christmas Concerts
DESCRIPTION:It's not too early to celebrate Christmas!  Save the dates for BANKS COUNTY CHRISTMAS CONCERTS
X-ALT-DESC;FMTTYPE=text/html:It&#39\;s not too early to celebrate Christmas!&nbsp\; Save the dates for BANKS COUNTY CHRISTMAS CONCERTS
LOCATION:Banks County High School Auditorium 1486 A Historic Homer Hwy. Homer\, GA 30554
UID:e.1877.5003
SEQUENCE:3
DTSTAMP:20260420T012003Z
URL:https://www.bankscountyga.biz/events/details/banks-county-christmas-concerts-5003
END:VEVENT

END:VCALENDAR
