BEGIN:VCALENDAR
VERSION:2.0
PRODID:-//ChamberMaster//Event Calendar 2.0//EN
METHOD:PUBLISH
X-PUBLISHED-TTL:P3D
REFRESH-INTERVAL:P3D
CALSCALE:GREGORIAN
BEGIN:VEVENT
DTSTART:20230527T000000Z
DTEND:20230527T020000Z
X-MICROSOFT-CDO-ALLDAYEVENT:FALSE
SUMMARY:Banks County High School Graduation
DESCRIPTION:The graduation ceremony for the Class of 2023 will be held on May 26th at 8:00 pm. Gates will open at 6:00 pm.\n\n\n\nCongratulations\, Class of 2023!\n\nHonors Days and Graduations will be livestreamed. If you are unable to join us in person you can still join us virtually for the end of the year ceremonies. All livestreams can be replayed on demand. Use the website below to view a list of upcoming events and access the livestreams.www.banks.k12.ga.us/apps/pages/watch
X-ALT-DESC;FMTTYPE=text/html:<div class="xdj266r x11i5rnm xat24cr x1mh8g0r x1vvkbs x126k92a" style="margin: 0px\; white-space: pre-wrap\; overflow-wrap: break-word\; font-family: &quot\;Segoe UI Historic&quot\;\, &quot\;Segoe UI&quot\;\, Helvetica\, Arial\, sans-serif\; color: rgb(5\, 5\, 5)\; font-size: 30px\; background-color: rgb(255\, 255\, 255)\;">\n<div dir="auto" style="font-family: inherit\;">The graduation ceremony for the Class of 2023 will be held on May 26th at 8:00 pm. Gates will open at 6:00 pm.</div>\n</div>\n\n<div class="x11i5rnm xat24cr x1mh8g0r x1vvkbs xtlvy1s x126k92a" style="margin: 0.5em 0px 0px\; white-space: pre-wrap\; overflow-wrap: break-word\; font-family: &quot\;Segoe UI Historic&quot\;\, &quot\;Segoe UI&quot\;\, Helvetica\, Arial\, sans-serif\; color: rgb(5\, 5\, 5)\; font-size: 30px\; background-color: rgb(255\, 255\, 255)\;">\n<div dir="auto" style="font-family: inherit\;">Congratulations\, Class of 2023!</div>\n</div>\n<span style="color: rgb(5\, 5\, 5)\; font-family: &quot\;Segoe UI Historic&quot\;\, &quot\;Segoe UI&quot\;\, Helvetica\, Arial\, sans-serif\; font-size: 30px\; white-space: pre-wrap\; background-color: rgb(255\, 255\, 255)\;">Honors Days and Graduations will be livestreamed. If you are unable to join us in person you can still join us virtually for the end of the year ceremonies. All livestreams can be replayed on demand. Use the website below to view a list of upcoming events and access the livestreams.</span><a class="x1i10hfl xjbqb8w x6umtig x1b1mbwd xaqea5y xav7gou x9f619 x1ypdohk xt0psk2 xe8uvvx xdj266r x11i5rnm xat24cr x1mh8g0r xexx8yu x4uap5 x18d9i69 xkhd6sd x16tdsg8 x1hl2dhg xggy1nq x1a2a7pz xt0b8zv x1fey0fg" href="https://l.facebook.com/l.php?u=http%3A%2F%2Fwww.banks.k12.ga.us%2Fapps%2Fpages%2Fwatch%3Ffbclid%3DIwAR3lqViBkKl0V-rX9So64ihMtGZgrLwBoc3YFVKjm-yqXKN5saroJOPN-A8&amp\;h=AT1xFQW2Xkqu9-7d-K5MQ3nHNJHpLZqUf3TZTf7pMNtuh9ftEOf6HqlpajWoMaXYhBOHbOUqv_7iQ4wNmBUCkHVvNZAQrswMuNxcdugoqobh867t5gR7AURWdG4Prm8oJ1IU&amp\;__tn__=-UK-R&amp\;c[0]=AT1-DVoiVk5yNS59ArqAHHx0oyNWSW5gcNCE-Jzl1LiZ4VbwnymXlQU4B34eWdOUUTq9WXfA4yQik6yvJ8_OtsjHSWTL6qTXtCz4vpcRhladk9Qn-ppkqbY97vWwi0P30PoZX_wPttIGSy3EAsGJbHxllRIAt2DfljXcYmUJPqXDhroMmDYOKWzQPW9xgIT9lbLTD_0MHAnz" rel="nofollow noreferrer" role="link" style="cursor: pointer\; border-width: 0px\; border-style: initial\; border-color: initial\; outline: none\; list-style: none\; margin: 0px\; padding: 0px\; -webkit-tap-highlight-color: transparent\; box-sizing: border-box\; touch-action: manipulation\; background-color: rgb(255\, 255\, 255)\; display: inline\; font-family: &quot\;Segoe UI Historic&quot\;\, &quot\;Segoe UI&quot\;\, Helvetica\, Arial\, sans-serif\; font-size: 30px\; white-space: pre-wrap\;" tabindex="0" target="_blank">www.banks.k12.ga.us/apps/pages/watch</a>
LOCATION:Banks County High School 1486 Historic Homer Hwy. Homer\, GA. 30547
UID:e.1877.5046
SEQUENCE:3
DTSTAMP:20260419T164857Z
URL:https://www.bankscountyga.biz/events/details/banks-county-high-school-graduation-5046
END:VEVENT

END:VCALENDAR
