BEGIN:VCALENDAR
VERSION:2.0
PRODID:-//ChamberMaster//Event Calendar 2.0//EN
METHOD:PUBLISH
X-PUBLISHED-TTL:P3D
REFRESH-INTERVAL:P3D
CALSCALE:GREGORIAN
BEGIN:VEVENT
DTSTART:20230318T130000Z
DTEND:20230318T200000Z
X-MICROSOFT-CDO-ALLDAYEVENT:FALSE
SUMMARY:Banks County Rec Department Presents "Opening Day"
DESCRIPTION:Opening Day is taking place this Saturday\, March 18th\, 2023. We will have concessions\, vendors\, and live games! Parking will be available at Windmill Park.\n\n\n\nKick-off will start with a parade\, where the players and coaches will march down to Fields 1\,2\,3\, & 4. Hope to see you there!!\n\n\n\nSee you there!
X-ALT-DESC;FMTTYPE=text/html:<div class="x11i5rnm xat24cr x1mh8g0r x1vvkbs xdj266r x126k92a" style="margin: 0px\; white-space: pre-wrap\; overflow-wrap: break-word\; font-family: &quot\;Segoe UI Historic&quot\;\, &quot\;Segoe UI&quot\;\, Helvetica\, Arial\, sans-serif\; color: rgb(5\, 5\, 5)\; font-size: 30px\; background-color: rgb(255\, 255\, 255)\;">\n<div dir="auto" style="font-family: inherit\;">Opening Day is taking place this Saturday\, March 18th\, 2023. We will have concessions\, vendors\, and live games! Parking will be available at Windmill Park.</div>\n</div>\n\n<div class="x11i5rnm xat24cr x1mh8g0r x1vvkbs xtlvy1s x126k92a" style="margin: 0.5em 0px 0px\; white-space: pre-wrap\; overflow-wrap: break-word\; font-family: &quot\;Segoe UI Historic&quot\;\, &quot\;Segoe UI&quot\;\, Helvetica\, Arial\, sans-serif\; color: rgb(5\, 5\, 5)\; font-size: 30px\; background-color: rgb(255\, 255\, 255)\;">\n<div dir="auto" style="font-family: inherit\;">Kick-off will start with a parade\, where the players and coaches will march down to Fields 1\,2\,3\, &amp\; 4. Hope to see you there!!</div>\n</div>\n\n<div class="x11i5rnm xat24cr x1mh8g0r x1vvkbs xtlvy1s x126k92a" style="margin: 0.5em 0px 0px\; white-space: pre-wrap\; overflow-wrap: break-word\; font-family: &quot\;Segoe UI Historic&quot\;\, &quot\;Segoe UI&quot\;\, Helvetica\, Arial\, sans-serif\; color: rgb(5\, 5\, 5)\; font-size: 30px\; background-color: rgb(255\, 255\, 255)\;">\n<div dir="auto" style="font-family: inherit\;">See you there!</div>\n</div>\n
LOCATION:WINDMILL PARK 607 Thompson Street Homer\, GA 30547
UID:e.1877.5031
SEQUENCE:3
DTSTAMP:20260419T215457Z
URL:https://www.bankscountyga.biz/events/details/banks-county-rec-department-presents-opening-day-5031
END:VEVENT

END:VCALENDAR
