BEGIN:VCALENDAR
VERSION:2.0
PRODID:-//ChamberMaster//Event Calendar 2.0//EN
METHOD:PUBLISH
X-PUBLISHED-TTL:P3D
REFRESH-INTERVAL:P3D
CALSCALE:GREGORIAN
BEGIN:VEVENT
DTSTART:20220828T220000Z
DTEND:20220829T010000Z
X-MICROSOFT-CDO-ALLDAYEVENT:FALSE
SUMMARY:BBQ & BLUEGRASS
DESCRIPTION:Join us Sunday\, August 28th at 6 pm for BBQ & Bluegrass! Featuring Nashville Bluegrass artists\, Paper Dolls with a free concert! Inflatables\, cornhole.
X-ALT-DESC;FMTTYPE=text/html:<div dir="auto" style="font-family: inherit\;">\n<div class="d2hqwtrz r227ecj6 ez8dtbzv gt60zsk1" data-ad-comet-preview="message" data-ad-preview="message" id="jsc_c_26" style="padding: 4px 16px 16px\; font-family: inherit\;">\n<div class="alzwoclg cqf1kptm siwo0mpr gu5uzgus" style="display: flex\; flex-direction: column\; margin-top: -5px\; margin-bottom: -5px\; font-family: inherit\;">\n<div class="jroqu855 nthtkgg5" style="margin-bottom: 5px\; margin-top: 5px\; font-family: inherit\;">\n<div class="m8h3af8h l7ghb35v kjdc1dyq kmwttqpk gh25dzvf n3t5jt4f" style="overflow-wrap: break-word\; margin: 0px\; white-space: pre-wrap\; font-family: inherit\;">\n<div dir="auto" style="font-family: inherit\;"><span class="gvxzyvdx aeinzg81 t7p7dqev gh25dzvf exr7barw b6ax4al1 gem102v4 ncib64c9 mrvwc6qr sx8pxkcf f597kf1v cpcgwwas m2nijcs8 hxfwr5lz k1z55t6l oog5qr5w tes86rjd pbevjfx6 ztn2w49o" dir="auto" style="min-width: 0px\; display: block\; font-family: inherit\; overflow-wrap: break-word\; max-width: 100%\; font-size: 0.9375rem\; line-height: 1.3333\; color: var(--primary-text)\; word-break: break-word\;">Join us Sunday\, August 28th at 6 pm for BBQ &amp\; Bluegrass! Featuring Nashville Bluegrass artists\, <span style="font-family: inherit\;"><a class="qi72231t nu7423ey n3hqoq4p r86q59rh b3qcqh3k fq87ekyn bdao358l fsf7x5fv rse6dlih s5oniofx m8h3af8h l7ghb35v kjdc1dyq kmwttqpk srn514ro oxkhqvkx rl78xhln nch0832m cr00lzj9 rn8ck1ys s3jn8y49 icdlwmnq cxfqmxzd d1w2l3lo tes86rjd" href="https://www.facebook.com/BandOfKelleys?__cft__[0]=AZX0G59eDHHJwAy5wLVG7bzJfI1mizk7hvbcXf50W0ZMSORp7RiKaKd2lsba3vI3kCO2IZSDb2pINAQO0q1P2_y4I4UON6Ej3XBi8VAFHxAn07SgK-pzqerD8pli6M185wjuMWoUwyBkCPEAtC9hl8IdgnfzUwbpl9p1WNhcusa2zHiwb2GssvNPUSjCwcOwMarQcvd8YI5eT63PaLxl3mTg&amp\;__tn__=-]K-R" role="link" style="cursor: pointer\; text-decoration-line: none\; outline: none\; list-style: none\; border-width: 0px\; border-style: initial\; border-color: initial\; box-sizing: border-box\; text-align: inherit\; margin: 0px\; padding: 0px\; -webkit-tap-highlight-color: transparent\; display: inline\; touch-action: manipulation\; font-family: inherit\;" tabindex="0"><span class="rse6dlih" style="display: inline\; font-family: inherit\;">Paper Dolls</span></a></span> with a free concert! Inflatables\, cornhole.</span></div>\n</div>\n</div>\n</div>\n</div>\n</div>\n
LOCATION:Ebenezer Baptist Church Rose lane & Big A Rd. - Toccoa
UID:e.1877.4983
SEQUENCE:3
DTSTAMP:20260420T080933Z
URL:https://www.bankscountyga.biz/events/details/bbq-bluegrass-4983
END:VEVENT

END:VCALENDAR
