BEGIN:VCALENDAR
VERSION:2.0
PRODID:-//ChamberMaster//Event Calendar 2.0//EN
METHOD:PUBLISH
X-PUBLISHED-TTL:P3D
REFRESH-INTERVAL:P3D
CALSCALE:GREGORIAN
BEGIN:VEVENT
DTSTART:20221206T200000Z
DTEND:20221207T000000Z
X-MICROSOFT-CDO-ALLDAYEVENT:FALSE
SUMMARY:Blood Drive
DESCRIPTION:You have the opportunity to help save lives by donating blood and it doesn't take much time.  The need is ongoing but the supply is not.  Please give blood today.  Sponsored by the MedlingGA and the Homer United Methodist Church. Tuesday\, December 6\, 2022 from 3 pm to 7 pm.  Public and Walk Ins Welcome.  Donors will receive a $10 Gift Card.  Call 1-800-733-2767.
X-ALT-DESC;FMTTYPE=text/html:You have the opportunity to help save lives by donating blood and it doesn&#39\;t take much time.&nbsp\; The need is ongoing but the supply is not.&nbsp\; Please give blood today.&nbsp\; Sponsored by the MedlingGA and the Homer United Methodist Church. Tuesday\, December 6\, 2022 from 3 pm to 7 pm.&nbsp\; Public and Walk Ins Welcome.&nbsp\; Donors will receive a $10 Gift Card.&nbsp\; Call 1-800-733-2767.
LOCATION:Homer United Methodist Church 141 Sycamore Street\, Homer\, GA 30547
UID:e.1877.5007
SEQUENCE:3
DTSTAMP:20260420T011020Z
URL:https://www.bankscountyga.biz/events/details/blood-drive-5007
END:VEVENT

END:VCALENDAR
