BEGIN:VCALENDAR
VERSION:2.0
PRODID:-//ChamberMaster//Event Calendar 2.0//EN
METHOD:PUBLISH
X-PUBLISHED-TTL:P3D
REFRESH-INTERVAL:P3D
CALSCALE:GREGORIAN
BEGIN:VEVENT
DTSTART:20230217T190000Z
DTEND:20230218T000000Z
X-MICROSOFT-CDO-ALLDAYEVENT:FALSE
SUMMARY:Blood Drive - Homer
DESCRIPTION:MedLink Georgia and Homer United Methodist Church are sponsoring a Mobile Blood Drive. We need your donation to save local lives!
X-ALT-DESC;FMTTYPE=text/html:MedLink Georgia and Homer United Methodist Church are sponsoring a Mobile Blood Drive. We need your donation to save local lives!
LOCATION:Homer United Methodist Church 141 Sycamore St Homer\, GA 30547
UID:e.1877.5015
SEQUENCE:3
DTSTAMP:20260419T220157Z
URL:https://www.bankscountyga.biz/events/details/blood-drive-homer-5015
END:VEVENT

END:VCALENDAR
