BEGIN:VCALENDAR
VERSION:2.0
PRODID:-//ChamberMaster//Event Calendar 2.0//EN
METHOD:PUBLISH
X-PUBLISHED-TTL:P3D
REFRESH-INTERVAL:P3D
CALSCALE:GREGORIAN
BEGIN:VEVENT
DTSTART:20221013T150000Z
DTEND:20221013T160000Z
X-MICROSOFT-CDO-ALLDAYEVENT:FALSE
SUMMARY:Called Social Committee Meeting - Revised
DESCRIPTION:Revised-A CALLED SOCIAL COMMITTEE MEETING HAS BEEN SCHEDULED  for 11:00 AM FOLLOWNG THE MONTHLY MEMBERSHIP BREAKFAST AT THE BOARD OF EDUCATION OFFICE BUILDING UPSTAIRS.
X-ALT-DESC;FMTTYPE=text/html:Revised-A CALLED SOCIAL COMMITTEE MEETING HAS BEEN SCHEDULED&nbsp\; for 11:00 AM FOLLOWNG THE MONTHLY MEMBERSHIP BREAKFAST AT THE BOARD OF EDUCATION OFFICE BUILDING UPSTAIRS.&nbsp\;&nbsp\;
LOCATION:Banks County Board of Education 1989 Historic Homer Hwy Commerce\, GA 30529
UID:e.1877.4994
SEQUENCE:3
DTSTAMP:20260420T063337Z
URL:https://www.bankscountyga.biz/events/details/called-social-committee-meeting-revised-4994
END:VEVENT

END:VCALENDAR
