BEGIN:VCALENDAR
VERSION:2.0
PRODID:-//ChamberMaster//Event Calendar 2.0//EN
METHOD:PUBLISH
X-PUBLISHED-TTL:P3D
REFRESH-INTERVAL:P3D
CALSCALE:GREGORIAN
BEGIN:VEVENT
DTSTART:20220921T130000Z
DTEND:20220921T163000Z
X-MICROSOFT-CDO-ALLDAYEVENT:FALSE
SUMMARY:Celebrate fall with homemade apple butter!
DESCRIPTION:Join Banks County Extension to learn about the principles behind safe home food preservation.  Then\, put what you learn to use aby canning apple butter with locally-grown apples!
X-ALT-DESC;FMTTYPE=text/html:Join Banks County Extension to learn about the principles behind safe home food preservation.&nbsp\; Then\, put what you learn to use aby canning apple butter with locally-grown apples!
LOCATION:413 Evans Street\, Homer\, GA 30547
UID:e.1877.4978
SEQUENCE:3
DTSTAMP:20260420T063434Z
URL:https://www.bankscountyga.biz/events/details/celebrate-fall-with-homemade-apple-butter-4978
END:VEVENT

END:VCALENDAR
