BEGIN:VCALENDAR
VERSION:2.0
PRODID:-//ChamberMaster//Event Calendar 2.0//EN
METHOD:PUBLISH
X-PUBLISHED-TTL:P3D
REFRESH-INTERVAL:P3D
CALSCALE:GREGORIAN
BEGIN:VEVENT
DTSTART:20221029T130000Z
DTEND:20221029T150000Z
X-MICROSOFT-CDO-ALLDAYEVENT:FALSE
SUMMARY:Chillin with the Villains Breakfast
DESCRIPTION:Don't miss the fun as we enjoy breakfast with the Villains here at the Lavonia Cultural Center.  The Bad Wolf\, the Queen of Hearts\, Beetle Juice\, Cruella Deville\, Jafar\, Lago and Winterfred Sanderson will all be here.  Get your tickets as soon as possible\, because events like this usually sell out fast.  For tickets or more information call Amy at 706-491-1538
X-ALT-DESC;FMTTYPE=text/html:Don&#39\;t miss the fun as we enjoy breakfast with the Villains here at the Lavonia Cultural Center.&nbsp\; The Bad Wolf\, the Queen of Hearts\, Beetle Juice\, Cruella Deville\, Jafar\, Lago and Winterfred Sanderson will all be here.&nbsp\; Get your tickets as soon as possible\, because events like this usually sell out fast.&nbsp\; For tickets or more information call Amy at 706-491-1538
LOCATION:Lavonia Cultural Center\, Lavonia GA
UID:e.1877.4998
SEQUENCE:3
DTSTAMP:20260420T044602Z
URL:https://www.bankscountyga.biz/events/details/chillin-with-the-villains-breakfast-4998
END:VEVENT

END:VCALENDAR
