BEGIN:VCALENDAR
VERSION:2.0
PRODID:-//ChamberMaster//Event Calendar 2.0//EN
METHOD:PUBLISH
X-PUBLISHED-TTL:P3D
REFRESH-INTERVAL:P3D
CALSCALE:GREGORIAN
BEGIN:VEVENT
DTSTART:20221205T130000Z
DTEND:20221213T220000Z
X-MICROSOFT-CDO-ALLDAYEVENT:FALSE
SUMMARY:Christmas for Seniors
DESCRIPTION:Banks County #911/EMA is Accepting Donations Through Tuesday\, December 14 for our Senior's.  Please give a little Joy to our Local Senior Citizens. We are looking for donations of new board games and puzzles of any kind for local senior citizens in our community. Please Drop off at the Banks County 911 Center.  557 Thompson Street\, Homer\, GA 30547.
X-ALT-DESC;FMTTYPE=text/html:Banks County #911/EMA is Accepting Donations Through Tuesday\, December 14 for our Senior&#39\;s.&nbsp\; Please give a little Joy to our Local Senior Citizens. We are looking for donations of new board games and puzzles of any kind for local senior citizens in our community. Please Drop off at the Banks County 911 Center.&nbsp\; 557 Thompson Street\, Homer\, GA 30547.
LOCATION:Banks County 911 Center 557 Thompson Street Homer\, GA 30547
UID:e.1877.5011
SEQUENCE:3
DTSTAMP:20260420T011033Z
URL:https://www.bankscountyga.biz/events/details/christmas-for-seniors-5011
END:VEVENT

END:VCALENDAR
