BEGIN:VCALENDAR
VERSION:2.0
PRODID:-//ChamberMaster//Event Calendar 2.0//EN
METHOD:PUBLISH
X-PUBLISHED-TTL:P3D
REFRESH-INTERVAL:P3D
CALSCALE:GREGORIAN
BEGIN:VEVENT
DTSTART:20221203T223000Z
DTEND:20221205T013000Z
X-MICROSOFT-CDO-ALLDAYEVENT:FALSE
SUMMARY:Christmas in Gillsville
DESCRIPTION:Mark your calenders... It's the best time of the year! Bring your family and friends December 3rd and 4th between 5:30PM-8:30PM each night and join us at our "Christmas in Gillsville" event in Downtown Gillsville... sponsored by Sydney Segars Real Estate llc. This will again be a FREE event with Santa along with other fun activities for the kids! Last year we had more than 300 people in attendance ... so I want to go a bit BIGGER this year! More details to follow leading up to the event. Stay tuned!
X-ALT-DESC;FMTTYPE=text/html:<span style="color: rgb(5\, 5\, 5)\; font-family: &quot\;Segoe UI Historic&quot\;\, &quot\;Segoe UI&quot\;\, Helvetica\, Arial\, sans-serif\; font-size: 30px\; background-color: rgb(255\, 255\, 255)\;">Mark your calenders... It&#39\;s the best time of the year! Bring your family and friends December 3rd and 4th between 5:30PM-8:30PM each night and join us at our &quot\;Christmas in Gillsville&quot\; event in Downtown Gillsville... sponsored by Sydney Segars Real Estate llc. This will again be a FREE event with Santa along with other fun activities for the kids! Last year we had more than 300 people in attendance ... so I want to go a bit BIGGER this year! More details to follow leading up to the event. Stay tuned!</span>
LOCATION:Event is located in Gillsville\, Georgia
UID:e.1877.5004
SEQUENCE:3
DTSTAMP:20260420T011741Z
URL:https://www.bankscountyga.biz/events/details/christmas-in-gillsville-5004
END:VEVENT

END:VCALENDAR
