BEGIN:VCALENDAR
VERSION:2.0
PRODID:-//ChamberMaster//Event Calendar 2.0//EN
METHOD:PUBLISH
X-PUBLISHED-TTL:P3D
REFRESH-INTERVAL:P3D
CALSCALE:GREGORIAN
BEGIN:VEVENT
DTSTART:20211127T140000Z
DTEND:20211127T230000Z
X-MICROSOFT-CDO-ALLDAYEVENT:FALSE
SUMMARY:Christmas Market at New Holland Parlor
DESCRIPTION:Come Shop local & check items off of your Christmas list as you support small businesses!\n\nHandbags\, Boutique Clothing\, Jewelry\, Wreaths\, Christmas Crafts\, Ornaments\, BBQ Plates\, Hot Chocolate Bar\, Tee Shirts & Monogramming
X-ALT-DESC;FMTTYPE=text/html:<div class="kvgmc6g5 cxmmr5t8 oygrvhab hcukyx3x c1et5uql" style="overflow-wrap: break-word\; margin: 0px\; font-family: &quot\;Segoe UI Historic&quot\;\, &quot\;Segoe UI&quot\;\, Helvetica\, Arial\, sans-serif\; color: rgb(5\, 5\, 5)\; font-size: 24.375px\; background-color: rgb(255\, 255\, 255)\;">Come Shop local &amp\; check items off of your Christmas list as you support small businesses!</div>\n\n<div class="o9v6fnle cxmmr5t8 oygrvhab hcukyx3x c1et5uql" style="overflow-wrap: break-word\; margin: 0.5em 0px 0px\; font-family: &quot\;Segoe UI Historic&quot\;\, &quot\;Segoe UI&quot\;\, Helvetica\, Arial\, sans-serif\; color: rgb(5\, 5\, 5)\; font-size: 24.375px\; background-color: rgb(255\, 255\, 255)\;">Handbags\, Boutique Clothing\, Jewelry\, Wreaths\, Christmas Crafts\, Ornaments\, BBQ Plates\, Hot Chocolate Bar\, Tee Shirts &amp\; Monogramming&nbsp\;</div>\n
LOCATION:100 Myrtle Drive Gainesville\, GA 30501
UID:e.1877.4760
SEQUENCE:3
DTSTAMP:20260422T042706Z
URL:https://www.bankscountyga.biz/events/details/christmas-market-at-new-holland-parlor-4760
END:VEVENT

END:VCALENDAR
