BEGIN:VCALENDAR
VERSION:2.0
PRODID:-//ChamberMaster//Event Calendar 2.0//EN
METHOD:PUBLISH
X-PUBLISHED-TTL:P3D
REFRESH-INTERVAL:P3D
CALSCALE:GREGORIAN
BEGIN:VEVENT
DTSTART:20221022T110000Z
DTEND:20221023T000000Z
X-MICROSOFT-CDO-ALLDAYEVENT:FALSE
SUMMARY:City of Baldwin Fifth Fall Festival
DESCRIPTION:We would love to have you and your family come out on October \, 2022  at the Baldwin Farmers' Market - 110 Air Port Rd and enjoy our Fall Festival.  Live Music by The Maggie Valley Band\, Runway 5K\, Currahee Fall Crawl Jeep Ride\, hayrides\, games for everyone.  Face Painting\, Heroes in force\, evening movie in the market\, fireworks\, and so much more!
X-ALT-DESC;FMTTYPE=text/html:We would love to have you and your family come out on October \, 2022&nbsp\; at the Baldwin Farmers&#39\; Market - 110 Air Port Rd and enjoy our Fall Festival.&nbsp\; Live Music by The Maggie Valley Band\, Runway 5K\, Currahee Fall Crawl Jeep Ride\, hayrides\, games for everyone.&nbsp\; Face Painting\, Heroes in force\, evening movie in the market\, fireworks\, and so much more!
LOCATION:Baldwin Farmers Market 118 Airport Rd. Baldwin\, GA 30511
UID:e.1877.4999
SEQUENCE:3
DTSTAMP:20260420T044939Z
URL:https://www.bankscountyga.biz/events/details/city-of-baldwin-fifth-fall-festival-4999
END:VEVENT

END:VCALENDAR
