BEGIN:VCALENDAR
VERSION:2.0
PRODID:-//ChamberMaster//Event Calendar 2.0//EN
METHOD:PUBLISH
X-PUBLISHED-TTL:P3D
REFRESH-INTERVAL:P3D
CALSCALE:GREGORIAN
BEGIN:VEVENT
DTSTART:20230210T160000Z
DTEND:20230210T180000Z
X-MICROSOFT-CDO-ALLDAYEVENT:FALSE
SUMMARY:Community Resource Fair
DESCRIPTION:Region 2 Community Resource Fair\, \n\nMeet over 50 Partners\n\nFree to the Public
X-ALT-DESC;FMTTYPE=text/html:<strong>Region 2 Community Resource Fair\,&nbsp\;<br />\nMeet over 50 Partners<br />\nFree to the Public</strong>
LOCATION:Habersham EMC 6135 Georgia 115 clarkesville\, GA 30523
UID:e.1877.5017
SEQUENCE:3
DTSTAMP:20260419T214804Z
URL:https://www.bankscountyga.biz/events/details/community-resource-fair-5017
END:VEVENT

END:VCALENDAR
