BEGIN:VCALENDAR
VERSION:2.0
PRODID:-//ChamberMaster//Event Calendar 2.0//EN
METHOD:PUBLISH
X-PUBLISHED-TTL:P3D
REFRESH-INTERVAL:P3D
CALSCALE:GREGORIAN
BEGIN:VEVENT
DTSTART:20230520T200000Z
DTEND:20230521T020000Z
X-MICROSOFT-CDO-ALLDAYEVENT:FALSE
SUMMARY:CORNELIA MUSIC FEST
DESCRIPTION:The annual Cornelia Music Fest! We will be featuring 4 different 80's tribute bands!!!\n\nTom Petty and The Heartbreakers- The Mad Hatters\n\nCARS- Carpool\n\nChicago- Chi-Town\n\nand the Main performance!!! Journey- Departure!!!\n\nThere will be plenty of food and drink vendors! As well as city and band merchandise!\n\nMark your calendar and come ROCK OUT!!!!
X-ALT-DESC;FMTTYPE=text/html:<div class="xdj266r x11i5rnm xat24cr x1mh8g0r x1vvkbs" style="margin: 0px\; overflow-wrap: break-word\; font-family: &quot\;Segoe UI Historic&quot\;\, &quot\;Segoe UI&quot\;\, Helvetica\, Arial\, sans-serif\; color: rgb(5\, 5\, 5)\; font-size: 30px\; background-color: rgb(255\, 255\, 255)\;">The annual Cornelia Music Fest! We will be featuring 4 different 80&#39\;s tribute bands!!!</div>\n\n<div class="x11i5rnm xat24cr x1mh8g0r x1vvkbs xtlvy1s" style="margin: 0.5em 0px 0px\; overflow-wrap: break-word\; font-family: &quot\;Segoe UI Historic&quot\;\, &quot\;Segoe UI&quot\;\, Helvetica\, Arial\, sans-serif\; color: rgb(5\, 5\, 5)\; font-size: 30px\; background-color: rgb(255\, 255\, 255)\;">Tom Petty and The Heartbreakers- The Mad Hatters<br />\nCARS- Carpool<br />\nChicago- Chi-Town<br />\nand the Main performance!!! Journey- Departure!!!</div>\n\n<div class="x11i5rnm xat24cr x1mh8g0r x1vvkbs xtlvy1s" style="margin: 0.5em 0px 0px\; overflow-wrap: break-word\; font-family: &quot\;Segoe UI Historic&quot\;\, &quot\;Segoe UI&quot\;\, Helvetica\, Arial\, sans-serif\; color: rgb(5\, 5\, 5)\; font-size: 30px\; background-color: rgb(255\, 255\, 255)\;">There will be plenty of food and drink vendors! As well as city and band merchandise!</div>\n\n<div class="x11i5rnm xat24cr x1mh8g0r x1vvkbs xtlvy1s" style="margin: 0.5em 0px 0px\; overflow-wrap: break-word\; font-family: &quot\;Segoe UI Historic&quot\;\, &quot\;Segoe UI&quot\;\, Helvetica\, Arial\, sans-serif\; color: rgb(5\, 5\, 5)\; font-size: 30px\; background-color: rgb(255\, 255\, 255)\;">Mark your calendar and come ROCK OUT!!!!</div>\n
LOCATION:301 S Main Street\, Cornelia\, GA
UID:e.1877.5043
SEQUENCE:3
DTSTAMP:20260419T164745Z
URL:https://www.bankscountyga.biz/events/details/cornelia-music-fest-5043
END:VEVENT

END:VCALENDAR
