BEGIN:VCALENDAR
VERSION:2.0
PRODID:-//ChamberMaster//Event Calendar 2.0//EN
METHOD:PUBLISH
X-PUBLISHED-TTL:P3D
REFRESH-INTERVAL:P3D
CALSCALE:GREGORIAN
BEGIN:VEVENT
DTSTART:20230704T200000Z
DTEND:20230705T010000Z
X-MICROSOFT-CDO-ALLDAYEVENT:FALSE
SUMMARY:Demorest 4th of July Celebration
DESCRIPTION:Fourth of July Celebration\n\n\nPlease join us for our annual Fourth of July Celebration featuring Fly Betty Band. This year we want to highlight the children. Decorate bikes\, scooters\, wagons\, stroller\, etc. The parade will still include Habersham Central Band of Blue\, businesses\, classic cars and more from our community. The parade will begin at 4:00 PM. There will be food\, bouncy houses\, crafts\, music and of course fireworks after dark. We look forward to seeing you here!\n\n \n\nWe are still accepting vendors and parade applications.
X-ALT-DESC;FMTTYPE=text/html:<h2 style="box-sizing: border-box\; font-family: Raleway\, sans-serif\; line-height: 1.2\; color: rgb(104\, 147\, 55)\; margin-top: 20px\; margin-bottom: 30px\; font-size: 32px\; background-color: rgb(255\, 255\, 255)\;">Fourth of July Celebration</h2>\n\n<div class="xdj266r x11i5rnm xat24cr x1mh8g0r x1vvkbs" style="box-sizing: border-box\; color: rgb(26\, 49\, 41)\; font-family: Raleway\, sans-serif\; font-size: 14px\; background-color: rgb(255\, 255\, 255)\;">\n<div class="xdj266r x11i5rnm xat24cr x1mh8g0r x1vvkbs" style="box-sizing: border-box\;">Please join us for our annual&nbsp\;<a href="https://www.cityofdemorest.org/2023%20July%20Parade%20Flyer.pdf" style="box-sizing: border-box\; background-color: transparent\; color: rgb(105\, 145\, 81)\; outline: 0px !important\;" target="_blank">Fourth of July Celebration</a>&nbsp\;featuring Fly Betty Band. This year we want to highlight the children. Decorate bikes\, scooters\, wagons\, stroller\, etc. The parade will still include Habersham Central Band of Blue\, businesses\, classic cars and more from our community. The parade will begin at 4:00 PM. There will be food\, bouncy houses\, crafts\, music and of course fireworks after dark. We look forward to seeing you here!<br style="box-sizing: border-box\;" />\n&nbsp\;</div>\n\n<div class="x11i5rnm xat24cr x1mh8g0r x1vvkbs xtlvy1s" style="box-sizing: border-box\;">We are still accepting vendors and parade applications.</div>\n</div>\n
LOCATION:Downtown Demorest\, GA
UID:e.1877.5056
SEQUENCE:3
DTSTAMP:20260419T133111Z
URL:https://www.bankscountyga.biz/events/details/demorest-4th-of-july-celebration-5056
END:VEVENT

END:VCALENDAR
