BEGIN:VCALENDAR
VERSION:2.0
PRODID:-//ChamberMaster//Event Calendar 2.0//EN
METHOD:PUBLISH
X-PUBLISHED-TTL:P3D
REFRESH-INTERVAL:P3D
CALSCALE:GREGORIAN
BEGIN:VEVENT
DTSTART:20230324T230000Z
DTEND:20230327T000000Z
X-MICROSOFT-CDO-ALLDAYEVENT:FALSE
SUMMARY:DOROTHY in WONDERLAND The Musical
DESCRIPTION:Franklin Community Players PRESENTS Dorothy in Wonderland The Musical! Bring the family for a wonderful time.  Tickets are on sale now.    For tickets call:  706-491-1538.
X-ALT-DESC;FMTTYPE=text/html:Franklin Community Players PRESENTS Dorothy in Wonderland The Musical! Bring the family for a wonderful time.&nbsp\; Tickets are on sale now.&nbsp\;&nbsp\; &nbsp\;For tickets call:&nbsp\; 706-491-1538.
LOCATION:Lavonia Cultural Center 12005 Augusta Rd\, Lavonia\, GA 30553
UID:e.1877.5028
SEQUENCE:3
DTSTAMP:20260419T201706Z
URL:https://www.bankscountyga.biz/events/details/dorothy-in-wonderland-the-musical-5028
END:VEVENT

END:VCALENDAR
