BEGIN:VCALENDAR
VERSION:2.0
PRODID:-//ChamberMaster//Event Calendar 2.0//EN
METHOD:PUBLISH
X-PUBLISHED-TTL:P3D
REFRESH-INTERVAL:P3D
CALSCALE:GREGORIAN
BEGIN:VEVENT
DTSTART:20221030T020000Z
DTEND:20221029T200000Z
X-MICROSOFT-CDO-ALLDAYEVENT:FALSE
SUMMARY:Fall Festival Chili Cookoff
DESCRIPTION:FALL FESTIVAL & CHILI COOKOFF OCT 29TH\n\n\nIs your chili recipe the best?! Join us for a chili cookoff contest!\n\nGames\, music and fun times including a cake walk! Kids Zone and more.\n\ncontact mainstreet@commercega.gov to enter your cake for the cake walk and to enter in the chili contest\n\nwant to be a food vendor or craft vendor? contact mainstreet@commercega.gov by Oct 1
X-ALT-DESC;FMTTYPE=text/html:<div class="A_title" style="box-sizing: border-box\; font-family: Arial\, Helvetica\, sans-serif\; font-size: 1.3em\; font-weight: 600\; text-transform: uppercase\; padding: 5px\; background-color: rgb(255\, 255\, 255)\;">FALL FESTIVAL &amp\; CHILI COOKOFF OCT 29TH</div>\n\n<div class="A_content" style="box-sizing: border-box\; font-family: Arial\, Helvetica\, sans-serif\; padding: 5px 10px 10px\; font-size: 16px\; line-height: 1.5em\; overflow-wrap: break-word\; word-break: break-word\; hyphens: auto\; background-color: rgb(255\, 255\, 255)\;">\n<p style="box-sizing: border-box\; line-height: 1.7em\; letter-spacing: 0.3px\; margin: 0px 0px 15px\;">Is your chili recipe the best?! Join us for a chili cookoff contest!</p>\n\n<p style="box-sizing: border-box\; line-height: 1.7em\; letter-spacing: 0.3px\; margin: 0px 0px 15px\;">Games\, music and fun times including a cake walk! Kids Zone and more.</p>\n\n<p style="box-sizing: border-box\; line-height: 1.7em\; letter-spacing: 0.3px\; margin: 0px 0px 15px\;">contact mainstreet@commercega.gov to enter your cake for the cake walk and to enter in the chili contest</p>\n\n<p style="box-sizing: border-box\; line-height: 1.7em\; letter-spacing: 0.3px\; margin: 0px 0px 15px\;">want to be a food vendor or craft vendor? contact mainstreet@commercega.gov by Oct 1</p>\n</div>\n
LOCATION:Spencer Park 1577 S. Broad St. Commerce\, GA
UID:e.1877.4990
SEQUENCE:3
DTSTAMP:20260420T044620Z
URL:https://www.bankscountyga.biz/events/details/fall-festival-chili-cookoff-4990
END:VEVENT

END:VCALENDAR
