BEGIN:VCALENDAR
VERSION:2.0
PRODID:-//ChamberMaster//Event Calendar 2.0//EN
METHOD:PUBLISH
X-PUBLISHED-TTL:P3D
REFRESH-INTERVAL:P3D
CALSCALE:GREGORIAN
BEGIN:VEVENT
DTSTART:20220820T130000Z
DTEND:20220820T160000Z
X-MICROSOFT-CDO-ALLDAYEVENT:FALSE
SUMMARY:Franklin Community Players CAR AND TRUCK SHOW
DESCRIPTION:Franklin Community Players is having a Car and Truck Show!!!\n\nSponsored by S&L Automotives. August 20th\, 2022 Registration starts at 8 am and Show from 9am to 12pm. Concessions will be available to purchase and Trophy Presentation.  Prizes Given during show!\n\nPre-Register by calling 706-491-1538.
X-ALT-DESC;FMTTYPE=text/html:Franklin Community Players is having a Car and Truck Show!!!<br />\nSponsored by S&amp\;L Automotives. August 20th\, 2022 Registration starts at 8 am and Show from 9am to 12pm. Concessions will be available to purchase and Trophy Presentation.&nbsp\; Prizes Given during show!<br />\nPre-Register by calling 706-491-1538.<br />\n&nbsp\;
LOCATION:Lavonia Cultural Center 12005 Augusta Rd Lavonia\, GA
UID:e.1877.4980
SEQUENCE:3
DTSTAMP:20260420T082316Z
URL:https://www.bankscountyga.biz/events/details/franklin-community-players-car-and-truck-show-4980
END:VEVENT

END:VCALENDAR
