BEGIN:VCALENDAR
VERSION:2.0
PRODID:-//ChamberMaster//Event Calendar 2.0//EN
METHOD:PUBLISH
X-PUBLISHED-TTL:P3D
REFRESH-INTERVAL:P3D
CALSCALE:GREGORIAN
BEGIN:VEVENT
DTSTART:20221130T233000Z
DTEND:20221201T003000Z
X-MICROSOFT-CDO-ALLDAYEVENT:FALSE
SUMMARY:FREE SUICIDE PREVENTION WORKSHOP
DESCRIPTION:Banks County Family Connection has teamed up with the Partners in Prevention Project to sponsor guest speaker Kevin Hines. Hines is a best-selling author\, global public speaker\, and award-winning filmmaker. The event will be held on November 30th\, 2022 6:30pm-7:30pm at Banks County High School in the auditorium.
X-ALT-DESC;FMTTYPE=text/html:<span style="color: rgb(5\, 5\, 5)\; font-family: &quot\;Segoe UI Historic&quot\;\, &quot\;Segoe UI&quot\;\, Helvetica\, Arial\, sans-serif\; font-size: 30px\; white-space: pre-wrap\; background-color: rgb(255\, 255\, 255)\;">Banks County Family Connection has teamed up with the Partners in Prevention Project to sponsor guest speaker Kevin Hines. Hines is a best-selling author\, </span><span style="color: rgb(5\, 5\, 5)\; font-family: &quot\;Segoe UI Historic&quot\;\, &quot\;Segoe UI&quot\;\, Helvetica\, Arial\, sans-serif\; font-size: 30px\; white-space: pre-wrap\; background-color: rgb(255\, 255\, 255)\;">global public speaker\, and award-winning filmmaker. The event will be held on November 30th\, 2022 6:30pm-7:30pm at Banks County High School in the auditorium.</span>
LOCATION:BANKS COUNTY HIGH SCHOOL AUDITORIUM 1486 HISTORIC HOMER HWY. HOMER\, GA 30547
UID:e.1877.5001
SEQUENCE:3
DTSTAMP:20260420T025525Z
URL:https://www.bankscountyga.biz/events/details/free-suicide-prevention-workshop-5001
END:VEVENT

END:VCALENDAR
