BEGIN:VCALENDAR
VERSION:2.0
PRODID:-//ChamberMaster//Event Calendar 2.0//EN
METHOD:PUBLISH
X-PUBLISHED-TTL:P3D
REFRESH-INTERVAL:P3D
CALSCALE:GREGORIAN
BEGIN:VEVENT
DTSTART:20230519T213000Z
DTEND:20230520T000000Z
X-MICROSOFT-CDO-ALLDAYEVENT:FALSE
SUMMARY:FRIDAY NIGHT LIGHTS
DESCRIPTION:This Friday is the BIG Night! Like you've never seen before. Come out and support your Mighty Leopards in both Powder Puff and Gridiron Football! DOORS OPEN AT 5:30 pm. Admission is $5
X-ALT-DESC;FMTTYPE=text/html:&nbsp\;<span style="color: rgb(5\, 5\, 5)\; font-family: &quot\;Segoe UI Historic&quot\;\, &quot\;Segoe UI&quot\;\, Helvetica\, Arial\, sans-serif\; font-size: 30px\; white-space: pre-wrap\; background-color: rgb(255\, 255\, 255)\;">This Friday is the BIG Night! Like you&#39\;ve never seen before. Come out and support your Mighty Leopards in both Powder Puff and Gridiron Football! DOORS OPEN AT 5:30 pm. Admission is $5</span>
LOCATION:Banks County High School 1486 Historic Homer Hwy Homer\, GA 30547
UID:e.1877.5045
SEQUENCE:3
DTSTAMP:20260419T182754Z
URL:https://www.bankscountyga.biz/events/details/friday-night-lights-5045
END:VEVENT

END:VCALENDAR
