BEGIN:VCALENDAR
VERSION:2.0
PRODID:-//ChamberMaster//Event Calendar 2.0//EN
METHOD:PUBLISH
X-PUBLISHED-TTL:P3D
REFRESH-INTERVAL:P3D
CALSCALE:GREGORIAN
BEGIN:VEVENT
DTSTART:20230120T170000Z
DTEND:20230120T173000Z
X-MICROSOFT-CDO-ALLDAYEVENT:FALSE
SUMMARY:Grand Opening & Ribbon Cutting Ceremony
DESCRIPTION:You are invited to join us at the Grand Opening and Ribbon Cutting Ceremony for our newest location in Commerce\, GA. Boot Barn at 243 Steven B\, Tanger Blvd.  Refreshments to follow and more information to come.  Mark your calendar's for January 20\, 2023.
X-ALT-DESC;FMTTYPE=text/html:You are invited to join us at the Grand Opening and Ribbon Cutting Ceremony for our newest location in Commerce\, GA. Boot Barn at 243 Steven B\, Tanger Blvd.&nbsp\; Refreshments to follow and more information to come.&nbsp\; Mark your calendar&#39\;s for January 20\, 2023.
LOCATION:Boot Barn 243 Steven B\, Tanger Blvd Commerce\, GA 30529
UID:e.1877.5012
SEQUENCE:3
DTSTAMP:20260419T234001Z
URL:https://www.bankscountyga.biz/events/details/grand-opening-ribbon-cutting-ceremony-5012
END:VEVENT

END:VCALENDAR
