BEGIN:VCALENDAR
VERSION:2.0
PRODID:-//ChamberMaster//Event Calendar 2.0//EN
METHOD:PUBLISH
X-PUBLISHED-TTL:P3D
REFRESH-INTERVAL:P3D
CALSCALE:GREGORIAN
BEGIN:VEVENT
DTSTART:20230428T160000Z
DTEND:20230428T200000Z
X-MICROSOFT-CDO-ALLDAYEVENT:FALSE
SUMMARY:H&H Homestead Spring Market Maysville\, GA
DESCRIPTION:Bringing together the best of the best in vintage\, antiques\, handmade and good junk!\n\nAlong with food trucks\, live music and fun for the whole family!\n\nCome celebrate 10 years with us on our family farm!\n\nApril 28th-April 30th.\n\nFriday 12-7 $10 admission\n\nSaturday 10-7 $6 admission\n\nSunday 10-4 $4 admission\n\nAll weekend pass $15\n\n12 and under free
X-ALT-DESC;FMTTYPE=text/html:<div class="x11i5rnm xat24cr x1mh8g0r x1vvkbs xdj266r" style="margin: 0px\; overflow-wrap: break-word\; font-family: &quot\;Segoe UI Historic&quot\;\, &quot\;Segoe UI&quot\;\, Helvetica\, Arial\, sans-serif\; color: rgb(5\, 5\, 5)\; font-size: 30px\; background-color: rgb(255\, 255\, 255)\;">Bringing together the best of the best in vintage\, antiques\, handmade and good junk!<br />\nAlong with food trucks\, live music and fun for the whole family!<br />\nCome celebrate 10 years with us on our family farm!</div>\n\n<div class="x11i5rnm xat24cr x1mh8g0r x1vvkbs xtlvy1s" style="margin: 0.5em 0px 0px\; overflow-wrap: break-word\; font-family: &quot\;Segoe UI Historic&quot\;\, &quot\;Segoe UI&quot\;\, Helvetica\, Arial\, sans-serif\; color: rgb(5\, 5\, 5)\; font-size: 30px\; background-color: rgb(255\, 255\, 255)\;">April 28th-April 30th.<br />\nFriday 12-7 $10 admission<br />\nSaturday 10-7 $6 admission<br />\nSunday 10-4 $4 admission<br />\nAll weekend pass $15<br />\n12 and under free</div>\n
LOCATION:10345 Gillsville Rd. Maysville\, GA
UID:e.1877.5026
SEQUENCE:3
DTSTAMP:20260419T201759Z
URL:https://www.bankscountyga.biz/events/details/h-h-homestead-spring-market-maysville-ga-5026
END:VEVENT

END:VCALENDAR
