BEGIN:VCALENDAR
VERSION:2.0
PRODID:-//ChamberMaster//Event Calendar 2.0//EN
METHOD:PUBLISH
X-PUBLISHED-TTL:P3D
REFRESH-INTERVAL:P3D
CALSCALE:GREGORIAN
BEGIN:VEVENT
DTSTART:20230715T220000Z
DTEND:20230716T010000Z
X-MICROSOFT-CDO-ALLDAYEVENT:FALSE
SUMMARY:HABERSHAM JAM
DESCRIPTION:Please join us as we celebrate the grand opening of NGMC Habersham!\n\nFree food\, live music\, touch-a-truck and more.\n\nThe first 200 attendees will receive a prize!\n\nParking for the event is at Piedmont University's Mize Athletic Center.\n\n428 Laurel Ave\, Demorest\, GA 30535.\n\nShuttles will run every 15 minutes.
X-ALT-DESC;FMTTYPE=text/html:<div class="xdj266r x11i5rnm xat24cr x1mh8g0r x1vvkbs" style="margin: 0px\; overflow-wrap: break-word\; font-family: &quot\;Segoe UI Historic&quot\;\, &quot\;Segoe UI&quot\;\, Helvetica\, Arial\, sans-serif\; color: rgb(5\, 5\, 5)\; font-size: 30px\; background-color: rgb(255\, 255\, 255)\;">Please join us as we celebrate the grand opening of NGMC Habersham!<br />\nFree food\, live music\, touch-a-truck and more.<br />\nThe first 200 attendees will receive a prize!</div>\n\n<div class="x11i5rnm xat24cr x1mh8g0r x1vvkbs xtlvy1s" style="margin: 0.5em 0px 0px\; overflow-wrap: break-word\; font-family: &quot\;Segoe UI Historic&quot\;\, &quot\;Segoe UI&quot\;\, Helvetica\, Arial\, sans-serif\; color: rgb(5\, 5\, 5)\; font-size: 30px\; background-color: rgb(255\, 255\, 255)\;">Parking for the event is at Piedmont University&#39\;s Mize Athletic Center.<br />\n428 Laurel Ave\, Demorest\, GA 30535.<br />\nShuttles will run every 15 minutes.</div>\n
LOCATION:Parking for the event is at Piedmont University's Mize Athletic Center 428 Laurel Ave\, Demorest\, GA 30535. Shuttles will run every 15 minutes!
UID:e.1877.5053
SEQUENCE:3
DTSTAMP:20260419T132809Z
URL:https://www.bankscountyga.biz/events/details/habersham-jam-5053
END:VEVENT

END:VCALENDAR
