BEGIN:VCALENDAR
VERSION:2.0
PRODID:-//ChamberMaster//Event Calendar 2.0//EN
METHOD:PUBLISH
X-PUBLISHED-TTL:P3D
REFRESH-INTERVAL:P3D
CALSCALE:GREGORIAN
BEGIN:VEVENT
DTSTART:20230528T200000Z
DTEND:20230529T020000Z
X-MICROSOFT-CDO-ALLDAYEVENT:FALSE
SUMMARY:HARTWELL LAKESIDE MUSIC FESTIVAL
DESCRIPTION:Party with a purpose at the Hartwell Lakeside Music Festival 2023.  Music w/special guest The Reservoir Dogs \, Sticky Tim & Phil Duncan. Bring the whole family. Jumpy Jump for the kids.  5/28/2023 from 4-10 PM.   http://hartwelllakesidemusicfestival.com/  for tickets
X-ALT-DESC;FMTTYPE=text/html:<font color="#dbdbdb" face="Roboto\, sans-serif"><span style="font-size: 30px\; background-color: rgb(9\, 9\, 9)\;"><b>Party with a purpose at the Hartwell Lakeside Music Festival 2023.&nbsp\; Music w/special guest The Reservoir Dogs \, Sticky Tim &amp\; Phil Duncan. Bring the whole family. Jumpy Jump for the kids.&nbsp\; 5/28/2023 from 4-10 PM.&nbsp\; &nbsp\;</b></span></font>http://hartwelllakesidemusicfestival.com/&nbsp\; for tickets
LOCATION:Hartwell Lakeside Resort 330 Hart State Park Rd Hartwell\, GA 30643
UID:e.1877.5049
SEQUENCE:3
DTSTAMP:20260419T165158Z
URL:https://www.bankscountyga.biz/events/details/hartwell-lakeside-music-festival-5049
END:VEVENT

END:VCALENDAR
