BEGIN:VCALENDAR
VERSION:2.0
PRODID:-//ChamberMaster//Event Calendar 2.0//EN
METHOD:PUBLISH
X-PUBLISHED-TTL:P3D
REFRESH-INTERVAL:P3D
CALSCALE:GREGORIAN
BEGIN:VEVENT
DTSTART:20230610T120000Z
DTEND:20230610T180000Z
X-MICROSOFT-CDO-ALLDAYEVENT:FALSE
SUMMARY:Historical Society of Lula Belton Ga Presents Our Annual Car Show
DESCRIPTION:Please join us for our Annual Car Show presented to you by the HISTORICAL SOCIETY OF LULA BELTON GA.  June 10 \, 2023.  Food\, Music and Fun! This years proceeds to benefit preserving Lula Belton history and Alzheimers Association.  Register early on site $20 Show from 9am to 2pm.  Located at Rafe Banks Park\, Lula GA.  Carshow@LulaBelton.com
X-ALT-DESC;FMTTYPE=text/html:Please join us for our Annual Car Show presented to you by the HISTORICAL SOCIETY OF LULA BELTON GA.&nbsp\; June 10 \, 2023.&nbsp\; Food\, Music and Fun! This years proceeds to benefit preserving Lula Belton history and Alzheimers Association.&nbsp\; Register early on site $20 Show from 9am to 2pm.&nbsp\; Located at Rafe Banks Park\, Lula GA.&nbsp\; Carshow@LulaBelton.com
LOCATION:Rafe BAnks Park\, Lula Ga
UID:e.1877.5041
SEQUENCE:3
DTSTAMP:20260419T151436Z
URL:https://www.bankscountyga.biz/events/details/historical-society-of-lula-belton-ga-presents-our-annual-car-show-5041
END:VEVENT

END:VCALENDAR
