BEGIN:VCALENDAR
VERSION:2.0
PRODID:-//ChamberMaster//Event Calendar 2.0//EN
METHOD:PUBLISH
X-PUBLISHED-TTL:P3D
REFRESH-INTERVAL:P3D
CALSCALE:GREGORIAN
BEGIN:VEVENT
DTSTART:20230429T120000Z
DTEND:20230429T180000Z
X-MICROSOFT-CDO-ALLDAYEVENT:FALSE
SUMMARY:Homer Baptist Church Spring Festival
DESCRIPTION:Come and bring the family for a fun day at Homer Baptist Church SPRING FESTIVAL!  We will have arts and crafts\, candles\, soapes\, outside arts\, baked goods\, jewelry & much more! We will also have a on-site FOOD TRUCK.  EVERYONE IS WELCOME!
X-ALT-DESC;FMTTYPE=text/html:Come and bring the family for a fun day at Homer Baptist Church SPRING FESTIVAL!&nbsp\; We will have arts and crafts\, candles\, soapes\, outside arts\, baked goods\, jewelry &amp\; much more! We will also have a on-site FOOD TRUCK.&nbsp\; EVERYONE IS WELCOME!&nbsp\;&nbsp\;
LOCATION:Homer Baptist Church 1172 Historic Homer Highway Homer\, GA 30547
UID:e.1877.5039
SEQUENCE:3
DTSTAMP:20260419T183305Z
URL:https://www.bankscountyga.biz/events/details/homer-baptist-church-spring-festival-5039
END:VEVENT

END:VCALENDAR
