BEGIN:VCALENDAR
VERSION:2.0
PRODID:-//ChamberMaster//Event Calendar 2.0//EN
METHOD:PUBLISH
X-PUBLISHED-TTL:P3D
REFRESH-INTERVAL:P3D
CALSCALE:GREGORIAN
BEGIN:VEVENT
DTSTART:20230401T170000Z
DTEND:20230401T180000Z
X-MICROSOFT-CDO-ALLDAYEVENT:FALSE
SUMMARY:Homer Easter Egg Hunt "IN CELEBRATION OF MACK GARRISON"
DESCRIPTION:BRING THE KIDS OUT TO THE HOMER EASTER EGG HUNT! Saturday\, April 1st\n\nSponsored by the Town of Homer and Homer DDA.  Enjoy FOOD / FACEPAINTING / HELICOPTER RIDES / GAMES & MORE! Gates open at 11 AM for games\, refreshments\, and attractions.  Hunt begins at 1 PM and end at 2 PM.  Located at 145 Oscar Rucker Rd\, Homer\, GA 30547. Hope to see you all there\,
X-ALT-DESC;FMTTYPE=text/html:BRING THE KIDS OUT TO THE HOMER EASTER EGG HUNT! Saturday\, April 1st<br />\nSponsored by the Town of Homer and Homer DDA.&nbsp\; Enjoy FOOD / FACEPAINTING / HELICOPTER RIDES / GAMES &amp\; MORE! Gates open at 11 AM for games\, refreshments\, and attractions.&nbsp\; Hunt begins at 1 PM and end at 2 PM.&nbsp\; Located at 145 Oscar Rucker Rd\, Homer\, GA 30547. Hope to see you all there\,
LOCATION:145 Oscar Rucker Rd\, Homer\, GA 30547
UID:e.1877.5023
SEQUENCE:3
DTSTAMP:20260419T182843Z
URL:https://www.bankscountyga.biz/events/details/homer-easter-egg-hunt-in-celebration-of-mack-garrison-5023
END:VEVENT

END:VCALENDAR
