BEGIN:VCALENDAR
VERSION:2.0
PRODID:-//ChamberMaster//Event Calendar 2.0//EN
METHOD:PUBLISH
X-PUBLISHED-TTL:P3D
REFRESH-INTERVAL:P3D
CALSCALE:GREGORIAN
BEGIN:VEVENT
DTSTART:20221203T200000Z
DTEND:20221203T230000Z
X-MICROSOFT-CDO-ALLDAYEVENT:FALSE
SUMMARY:Hometown Holiday
DESCRIPTION:Come downtown and shop our retail and as an added bonus we will have pop up shops to help with your Christmas Shopping! There will be fun in the park and Santa will be there too! We end the day with the Lighting of the City Tree and special guest will be there with their musical tunes too! 'Tis the Season
X-ALT-DESC;FMTTYPE=text/html:<span style="color: rgb(5\, 5\, 5)\; font-family: &quot\;Segoe UI Historic&quot\;\, &quot\;Segoe UI&quot\;\, Helvetica\, Arial\, sans-serif\; font-size: 30px\; background-color: rgb(255\, 255\, 255)\;">Come downtown and shop our retail and as an added bonus we will have pop up shops to help with your Christmas Shopping! There will be fun in the park and Santa will be there too! We end the day with the Lighting of the City Tree and special guest will be there with their musical tunes too! &#39\;Tis the Season</span>
LOCATION:Spencer Park Commerce\, GA
UID:e.1877.4991
SEQUENCE:3
DTSTAMP:20260420T011626Z
URL:https://www.bankscountyga.biz/events/details/hometown-holiday-4991
END:VEVENT

END:VCALENDAR
