BEGIN:VCALENDAR
VERSION:2.0
PRODID:-//ChamberMaster//Event Calendar 2.0//EN
METHOD:PUBLISH
X-PUBLISHED-TTL:P3D
REFRESH-INTERVAL:P3D
CALSCALE:GREGORIAN
BEGIN:VEVENT
DTSTART:20221203T150000Z
DTEND:20221203T210000Z
X-MICROSOFT-CDO-ALLDAYEVENT:FALSE
SUMMARY:It's a Homer-ville Grinchmas!!
DESCRIPTION:Mark your Calendar's for the Homer-ville Grinchmas!! Downtown Homer\, GA. Parade starts at 10am\, Photos with Santa\, food and crafts\, and much more!
X-ALT-DESC;FMTTYPE=text/html:<span style="color: rgb(5\, 5\, 5)\; font-family: &quot\;Segoe UI Historic&quot\;\, &quot\;Segoe UI&quot\;\, Helvetica\, Arial\, sans-serif\; font-size: 30px\; white-space: pre-wrap\; background-color: rgb(255\, 255\, 255)\;">Mark your Calendar&#39\;s for the Homer-ville Grinchmas!! Downtown Homer\, GA. Parade starts at 10am\, Photos with Santa\, food and crafts\, and much more!</span>
LOCATION:In Downtown Homer\, Ga
UID:e.1877.5002
SEQUENCE:3
DTSTAMP:20260420T011849Z
URL:https://www.bankscountyga.biz/events/details/it-s-a-homer-ville-grinchmas-5002
END:VEVENT

END:VCALENDAR
