BEGIN:VCALENDAR
VERSION:2.0
PRODID:-//ChamberMaster//Event Calendar 2.0//EN
METHOD:PUBLISH
X-PUBLISHED-TTL:P3D
REFRESH-INTERVAL:P3D
CALSCALE:GREGORIAN
BEGIN:VEVENT
DTSTART:20230701T160000Z
DTEND:20230701T160000Z
X-MICROSOFT-CDO-ALLDAYEVENT:FALSE
SUMMARY:Jaemor Farms "THE EATERY" Opening
DESCRIPTION:Join us for the opening of "The Eatery" at Jaemor Farms in Alto\, GA! To celebrate this new venture\, we'll be having a BLT Fest all weekend long.\n\nStop by The Eatery (FKA "The Barn") for a $5 BLT Combo. Includes a delicious BLT sandwich\, side and a bottled drink. Check out our market or go flower picking while you're here!
X-ALT-DESC;FMTTYPE=text/html:<div class="xdj266r x11i5rnm xat24cr x1mh8g0r x1vvkbs" style="margin: 0px\; overflow-wrap: break-word\; font-family: &quot\;Segoe UI Historic&quot\;\, &quot\;Segoe UI&quot\;\, Helvetica\, Arial\, sans-serif\; color: rgb(5\, 5\, 5)\; font-size: 30px\; background-color: rgb(255\, 255\, 255)\;">Join us for the opening of &quot\;The Eatery&quot\; at Jaemor Farms in Alto\, GA! To celebrate this new venture\, we&#39\;ll be having a BLT Fest all weekend long.</div>\n\n<div class="x11i5rnm xat24cr x1mh8g0r x1vvkbs xtlvy1s" style="margin: 0.5em 0px 0px\; overflow-wrap: break-word\; font-family: &quot\;Segoe UI Historic&quot\;\, &quot\;Segoe UI&quot\;\, Helvetica\, Arial\, sans-serif\; color: rgb(5\, 5\, 5)\; font-size: 30px\; background-color: rgb(255\, 255\, 255)\;">Stop by The Eatery (FKA &quot\;The Barn&quot\;) for a $5 BLT Combo. Includes a delicious BLT sandwich\, side and a bottled drink. Check out our market or go flower picking while you&#39\;re here!</div>\n
LOCATION:5430 Cornelia Highway/ GA Hwy 365\, Alto\, GA The Eater( /formerly " The Barn" ).
UID:e.1877.5057
SEQUENCE:3
DTSTAMP:20260419T133038Z
URL:https://www.bankscountyga.biz/events/details/jaemor-farms-the-eatery-opening-5057
END:VEVENT

END:VCALENDAR
