BEGIN:VCALENDAR
VERSION:2.0
PRODID:-//ChamberMaster//Event Calendar 2.0//EN
METHOD:PUBLISH
X-PUBLISHED-TTL:P3D
REFRESH-INTERVAL:P3D
CALSCALE:GREGORIAN
BEGIN:VEVENT
DTSTART:20221001T160000Z
DTEND:20221001T230000Z
X-MICROSOFT-CDO-ALLDAYEVENT:FALSE
SUMMARY:Jam on the Square
DESCRIPTION:Join us for Jam on the Square in conjunction with Jackson Co. Jamboree.\n\nThere will be vendors\, jam judging\, demonstrations\, storytelling\, dancing\, and lots of music.\n\nKeep checking back for additional information.\n\nAlso\, Join us on Friday\, Sept. 30 at 7:30pm as we kick-off the weekend with Contra Dancing on College Street. If you are not familiar with Contra Dancing...it is a combination of square dancing\, line dancing\, and waltzing. If you don't know how\, don't worry...We will practice at 7:30pm on Sept. 30.
X-ALT-DESC;FMTTYPE=text/html:<span style="color: rgb(5\, 5\, 5)\; font-family: &quot\;Segoe UI Historic&quot\;\, &quot\;Segoe UI&quot\;\, Helvetica\, Arial\, sans-serif\; font-size: 30px\; background-color: rgb(255\, 255\, 255)\;">Join us for Jam on the Square in conjunction with Jackson Co. Jamboree.</span><br style="color: rgb(5\, 5\, 5)\; font-family: &quot\;Segoe UI Historic&quot\;\, &quot\;Segoe UI&quot\;\, Helvetica\, Arial\, sans-serif\; font-size: 30px\; background-color: rgb(255\, 255\, 255)\;" />\n<span style="color: rgb(5\, 5\, 5)\; font-family: &quot\;Segoe UI Historic&quot\;\, &quot\;Segoe UI&quot\;\, Helvetica\, Arial\, sans-serif\; font-size: 30px\; background-color: rgb(255\, 255\, 255)\;">There will be vendors\, jam judging\, demonstrations\, storytelling\, dancing\, and lots of music.</span><br style="color: rgb(5\, 5\, 5)\; font-family: &quot\;Segoe UI Historic&quot\;\, &quot\;Segoe UI&quot\;\, Helvetica\, Arial\, sans-serif\; font-size: 30px\; background-color: rgb(255\, 255\, 255)\;" />\n<span style="color: rgb(5\, 5\, 5)\; font-family: &quot\;Segoe UI Historic&quot\;\, &quot\;Segoe UI&quot\;\, Helvetica\, Arial\, sans-serif\; font-size: 30px\; background-color: rgb(255\, 255\, 255)\;">Keep checking back for additional information.</span><br style="color: rgb(5\, 5\, 5)\; font-family: &quot\;Segoe UI Historic&quot\;\, &quot\;Segoe UI&quot\;\, Helvetica\, Arial\, sans-serif\; font-size: 30px\; background-color: rgb(255\, 255\, 255)\;" />\n<span style="color: rgb(5\, 5\, 5)\; font-family: &quot\;Segoe UI Historic&quot\;\, &quot\;Segoe UI&quot\;\, Helvetica\, Arial\, sans-serif\; font-size: 30px\; background-color: rgb(255\, 255\, 255)\;">Also\, Join us on Friday\, Sept. 30 at 7:30pm as we kick-off the weekend with Contra Dancing on College Street. If you are not familiar with Contra Dancing...it is a combination of square dancing\, line dancing\, and waltzing. If you don&#39\;t know how\, don&#39\;t worry...We will practice at 7:30pm on Sept. 30.</span>
LOCATION:College Street\, Jefferson\, GA
UID:e.1877.4986
SEQUENCE:3
DTSTAMP:20260420T044336Z
URL:https://www.bankscountyga.biz/events/details/jam-on-the-square-4986
END:VEVENT

END:VCALENDAR
