BEGIN:VCALENDAR
VERSION:2.0
PRODID:-//ChamberMaster//Event Calendar 2.0//EN
METHOD:PUBLISH
X-PUBLISHED-TTL:P3D
REFRESH-INTERVAL:P3D
CALSCALE:GREGORIAN
BEGIN:VEVENT
DTSTART:20230506T170000Z
DTEND:20230506T200000Z
X-MICROSOFT-CDO-ALLDAYEVENT:FALSE
SUMMARY:Lavender & Lace Afternoon TEA and SILENT AUCTION
DESCRIPTION:Please join us for the 2023 Lavender & Lace Afternoon Tea and Silent Auction on Saturday\, May 6th at the First Baptist Church of Jefferson. (9 Tables are still available)!!\n\n\n\n$20 per person or $150 for a table of 8.\n\n\n\nPlease contact Helene at hcaviness@peaceplaceinc.org with any questions.\n\n\n\nFirst Baptist Church of Jefferson\n\n246 Washington Street\n\nJefferson\, 30549
X-ALT-DESC;FMTTYPE=text/html:<div class="x11i5rnm xat24cr x1mh8g0r x1vvkbs xdj266r x126k92a" style="margin: 0px\; white-space: pre-wrap\; overflow-wrap: break-word\; font-family: &quot\;Segoe UI Historic&quot\;\, &quot\;Segoe UI&quot\;\, Helvetica\, Arial\, sans-serif\; color: rgb(5\, 5\, 5)\; font-size: 30px\; background-color: rgb(255\, 255\, 255)\;">\n<div dir="auto" style="font-family: inherit\;">Please join us for the 2023 Lavender &amp\; Lace Afternoon Tea and Silent Auction on Saturday\, May 6th at the First Baptist Church of Jefferson. (9 Tables are still available)!!</div>\n</div>\n\n<div class="x11i5rnm xat24cr x1mh8g0r x1vvkbs xtlvy1s x126k92a" style="margin: 0.5em 0px 0px\; white-space: pre-wrap\; overflow-wrap: break-word\; font-family: &quot\;Segoe UI Historic&quot\;\, &quot\;Segoe UI&quot\;\, Helvetica\, Arial\, sans-serif\; color: rgb(5\, 5\, 5)\; font-size: 30px\; background-color: rgb(255\, 255\, 255)\;">\n<div dir="auto" style="font-family: inherit\;">$20 per person or $150 for a table of 8.</div>\n</div>\n\n<div class="x11i5rnm xat24cr x1mh8g0r x1vvkbs xtlvy1s x126k92a" style="margin: 0.5em 0px 0px\; white-space: pre-wrap\; overflow-wrap: break-word\; font-family: &quot\;Segoe UI Historic&quot\;\, &quot\;Segoe UI&quot\;\, Helvetica\, Arial\, sans-serif\; color: rgb(5\, 5\, 5)\; font-size: 30px\; background-color: rgb(255\, 255\, 255)\;">\n<div dir="auto" style="font-family: inherit\;">Please contact Helene at hcaviness@peaceplaceinc.org with any questions.</div>\n</div>\n\n<div class="x11i5rnm xat24cr x1mh8g0r x1vvkbs xtlvy1s x126k92a" style="margin: 0.5em 0px 0px\; white-space: pre-wrap\; overflow-wrap: break-word\; font-family: &quot\;Segoe UI Historic&quot\;\, &quot\;Segoe UI&quot\;\, Helvetica\, Arial\, sans-serif\; color: rgb(5\, 5\, 5)\; font-size: 30px\; background-color: rgb(255\, 255\, 255)\;">\n<div dir="auto" style="font-family: inherit\;">First Baptist Church of Jefferson</div>\n\n<div dir="auto" style="font-family: inherit\;">246 Washington Street</div>\n\n<div dir="auto" style="font-family: inherit\;">Jefferson\, 30549</div>\n</div>\n
LOCATION:First Baptist Church of Jefferson\, GA 246 Washington Street\, Jefferson\, 30549
UID:e.1877.5035
SEQUENCE:3
DTSTAMP:20260419T182928Z
URL:https://www.bankscountyga.biz/events/details/lavender-lace-afternoon-tea-and-silent-auction-5035
END:VEVENT

END:VCALENDAR
